BEGIN:VCALENDAR
VERSION:2.0
PRODID:-//The Resort at Port Ludlow - ECPv6.15.20//NONSGML v1.0//EN
CALSCALE:GREGORIAN
METHOD:PUBLISH
X-WR-CALNAME:The Resort at Port Ludlow
X-ORIGINAL-URL:https://portludlowresort.com
X-WR-CALDESC:Events for The Resort at Port Ludlow
REFRESH-INTERVAL;VALUE=DURATION:PT1H
X-Robots-Tag:noindex
X-PUBLISHED-TTL:PT1H
BEGIN:VTIMEZONE
TZID:America/Los_Angeles
BEGIN:DAYLIGHT
TZOFFSETFROM:-0800
TZOFFSETTO:-0700
TZNAME:PDT
DTSTART:20240310T100000
END:DAYLIGHT
BEGIN:STANDARD
TZOFFSETFROM:-0700
TZOFFSETTO:-0800
TZNAME:PST
DTSTART:20241103T090000
END:STANDARD
BEGIN:DAYLIGHT
TZOFFSETFROM:-0800
TZOFFSETTO:-0700
TZNAME:PDT
DTSTART:20250309T100000
END:DAYLIGHT
BEGIN:STANDARD
TZOFFSETFROM:-0700
TZOFFSETTO:-0800
TZNAME:PST
DTSTART:20251102T090000
END:STANDARD
BEGIN:DAYLIGHT
TZOFFSETFROM:-0800
TZOFFSETTO:-0700
TZNAME:PDT
DTSTART:20260308T100000
END:DAYLIGHT
BEGIN:STANDARD
TZOFFSETFROM:-0700
TZOFFSETTO:-0800
TZNAME:PST
DTSTART:20261101T090000
END:STANDARD
END:VTIMEZONE
BEGIN:VEVENT
DTSTART;TZID=America/Los_Angeles:20251026T100000
DTEND;TZID=America/Los_Angeles:20251026T140000
DTSTAMP:20260420T024930
CREATED:20250404T212319Z
LAST-MODIFIED:20250404T212319Z
UID:10003045-1761472800-1761487200@portludlowresort.com
SUMMARY:Chimacum Farmers Market
DESCRIPTION:Sundays\, 10am-2pm\, May-October \n9122 Rhody Drive\, Chimacum WA \nWant to shop for locally grown food in the heart of our farming community with your dog at your side? Well\, the Chimacum Farmers Market is the market for you. Located just a stone’s throw from several participating farms in Jefferson County’s farm country\, the Chimacum Farmers Market operates Sundays\, June through October\, from 10 am to 2 pm. More rustic than its sister market in Port Townsend\, this jewel of a market offers a remarkable variety of seasonal produce from neighboring farms as well as artisan food and arts. \nFrom May to October\, find us at Chimacum’s only 4-way stop\, in the grassy area behind Chimacum Corner Farmstand\, where Highway 19 meets Chimacum Road and Center Road.
URL:https://portludlowresort.com/event/chimacum-farmers-market/2025-10-26/
LOCATION:Chimacum Corner\, 9122 Rhody Drive\, Chimacum\, WA\, 98325\, United States
CATEGORIES:Community
ATTACH;FMTTYPE=image/jpeg:https://portludlowresort.com/wp-content/uploads/2025/04/jcfm-cfm.jpg
ORGANIZER;CN="Jefferson County Farmers Markets":MAILTO:info@jcfmarkets.org
GEO:48.0117765;-122.7692945
X-APPLE-STRUCTURED-LOCATION;VALUE=URI;X-ADDRESS=Chimacum Corner 9122 Rhody Drive Chimacum WA 98325 United States;X-APPLE-RADIUS=500;X-TITLE=9122 Rhody Drive:geo:-122.7692945,48.0117765
END:VEVENT
END:VCALENDAR