BEGIN:VCALENDAR
VERSION:2.0
PRODID:-//The Resort at Port Ludlow - ECPv6.15.20//NONSGML v1.0//EN
CALSCALE:GREGORIAN
METHOD:PUBLISH
X-WR-CALNAME:The Resort at Port Ludlow
X-ORIGINAL-URL:https://portludlowresort.com
X-WR-CALDESC:Events for The Resort at Port Ludlow
REFRESH-INTERVAL;VALUE=DURATION:PT1H
X-Robots-Tag:noindex
X-PUBLISHED-TTL:PT1H
BEGIN:VTIMEZONE
TZID:America/Los_Angeles
BEGIN:DAYLIGHT
TZOFFSETFROM:-0800
TZOFFSETTO:-0700
TZNAME:PDT
DTSTART:20240310T100000
END:DAYLIGHT
BEGIN:STANDARD
TZOFFSETFROM:-0700
TZOFFSETTO:-0800
TZNAME:PST
DTSTART:20241103T090000
END:STANDARD
BEGIN:DAYLIGHT
TZOFFSETFROM:-0800
TZOFFSETTO:-0700
TZNAME:PDT
DTSTART:20250309T100000
END:DAYLIGHT
BEGIN:STANDARD
TZOFFSETFROM:-0700
TZOFFSETTO:-0800
TZNAME:PST
DTSTART:20251102T090000
END:STANDARD
BEGIN:DAYLIGHT
TZOFFSETFROM:-0800
TZOFFSETTO:-0700
TZNAME:PDT
DTSTART:20260308T100000
END:DAYLIGHT
BEGIN:STANDARD
TZOFFSETFROM:-0700
TZOFFSETTO:-0800
TZNAME:PST
DTSTART:20261101T090000
END:STANDARD
BEGIN:DAYLIGHT
TZOFFSETFROM:-0800
TZOFFSETTO:-0700
TZNAME:PDT
DTSTART:20270314T100000
END:DAYLIGHT
BEGIN:STANDARD
TZOFFSETFROM:-0700
TZOFFSETTO:-0800
TZNAME:PST
DTSTART:20271107T090000
END:STANDARD
END:VTIMEZONE
BEGIN:VEVENT
DTSTART;TZID=America/Los_Angeles:20260419T140000
DTEND;TZID=America/Los_Angeles:20260419T160000
DTSTAMP:20260423T040930
CREATED:20260325T023101Z
LAST-MODIFIED:20260325T023101Z
UID:10003704-1776607200-1776614400@portludlowresort.com
SUMMARY:Pets (And Their Humans)
DESCRIPTION:Ludlow Village Players is thrilled to announce our cast for our upcoming show… Mike Sockol’s “PETS (AND THEIR HUMANS).” The show will run for six performances at Port Ludlow’s Bay Club between April 17-26 & see the specifics (show dates & times…) plus purchase tickets online via www.ludlowvillageplayers.org  \n\nFri. Apr 17th 2026\, 6:30 pm\nSat. Apr 18th 2026\, 2:00 pm\nSun. Apr 19th 2026\, 2:00 pm\nFri. Apr 24th 2026\, 6:30 pm\nSat. Apr 25th 2026\, 2:00 pm\nSun. Apr 26th 2026\, 2:00 pm
URL:https://portludlowresort.com/event/pets-and-their-humans/2026-04-19/
LOCATION:Bay Club\, 120 Spinnaker Place\, Port Ludlow\, WA\, 98365\, United States
CATEGORIES:Community
ATTACH;FMTTYPE=image/jpeg:https://portludlowresort.com/wp-content/uploads/2026/03/lvp-pets.jpg
GEO:47.9159591;-122.7009176
X-APPLE-STRUCTURED-LOCATION;VALUE=URI;X-ADDRESS=Bay Club 120 Spinnaker Place Port Ludlow WA 98365 United States;X-APPLE-RADIUS=500;X-TITLE=120 Spinnaker Place:geo:-122.7009176,47.9159591
END:VEVENT
BEGIN:VEVENT
DTSTART;TZID=America/Los_Angeles:20260321T190000
DTEND;TZID=America/Los_Angeles:20260321T210000
DTSTAMP:20260423T040930
CREATED:20250812T193756Z
LAST-MODIFIED:20260319T190232Z
UID:10003250-1774119600-1774126800@portludlowresort.com
SUMMARY:PLPA Presents: Derina Harvey Band SOLD OUT
DESCRIPTION:Celtic Rock\, High energy story telling through song\, with a show that offers a fresh take on traditional folk songs as well as a few originals\, Derina’s vibrant personality takes center stage with humor\, storytelling and of course\, her powerful vocals. Award-winning entertainment awaits!
URL:https://portludlowresort.com/event/derina-harvey-band/
LOCATION:Bay Club\, 120 Spinnaker Place\, Port Ludlow\, WA\, 98365\, United States
CATEGORIES:Community
ATTACH;FMTTYPE=image/jpeg:https://portludlowresort.com/wp-content/uploads/2024/08/PLPA-logo.jpg
GEO:47.9159591;-122.7009176
X-APPLE-STRUCTURED-LOCATION;VALUE=URI;X-ADDRESS=Bay Club 120 Spinnaker Place Port Ludlow WA 98365 United States;X-APPLE-RADIUS=500;X-TITLE=120 Spinnaker Place:geo:-122.7009176,47.9159591
END:VEVENT
BEGIN:VEVENT
DTSTART;TZID=America/Los_Angeles:20251026T140000
DTEND;TZID=America/Los_Angeles:20251026T160000
DTSTAMP:20260423T040930
CREATED:20251020T185119Z
LAST-MODIFIED:20251020T185119Z
UID:10003339-1761487200-1761494400@portludlowresort.com
SUMMARY:LVP: All the King's Women
DESCRIPTION:6:30 Fridays October 17 & 24 and 2 pm Saturdays and Sundays October 18\, 19 & 25\, 26 at the Bay Club
URL:https://portludlowresort.com/event/lvp-all-the-kings-women/2025-10-26/
LOCATION:Bay Club\, 120 Spinnaker Place\, Port Ludlow\, WA\, 98365\, United States
CATEGORIES:Community
ATTACH;FMTTYPE=image/png:https://portludlowresort.com/wp-content/uploads/2025/10/All-the-Kings-Women.png
GEO:47.9159591;-122.7009176
X-APPLE-STRUCTURED-LOCATION;VALUE=URI;X-ADDRESS=Bay Club 120 Spinnaker Place Port Ludlow WA 98365 United States;X-APPLE-RADIUS=500;X-TITLE=120 Spinnaker Place:geo:-122.7009176,47.9159591
END:VEVENT
BEGIN:VEVENT
DTSTART;TZID=America/Los_Angeles:20250615T140000
DTEND;TZID=America/Los_Angeles:20250615T160000
DTSTAMP:20260423T040930
CREATED:20250603T020405Z
LAST-MODIFIED:20250603T020405Z
UID:10003106-1749996000-1750003200@portludlowresort.com
SUMMARY:Nunsense II
DESCRIPTION:The Ludlow Village Players proudly present: Nunsense II: The Second Coming\nA heavenly sequel packed with music\, mischief\, and mirth! \n\nWhere: The Bay Club – 120 Spinnaker Place\, Port Ludlow\nWhen: June 6–8 & June 13–15\nShowtimes: Fridays & Saturdays at 6:30 PM · Sundays at 2:00 PM\n\nWine & beer available on Friday & Saturday nights \nDoors open 30 minutes before curtain \nCLICK HERE TO GET TICKETS \nOnly $25 online · $27 at the door
URL:https://portludlowresort.com/event/nunsense-ii/2025-06-15/
LOCATION:Bay Club\, 120 Spinnaker Place\, Port Ludlow\, WA\, 98365\, United States
CATEGORIES:Community
ATTACH;FMTTYPE=image/webp:https://portludlowresort.com/wp-content/uploads/2025/06/Nunsense2.webp
GEO:47.9159591;-122.7009176
X-APPLE-STRUCTURED-LOCATION;VALUE=URI;X-ADDRESS=Bay Club 120 Spinnaker Place Port Ludlow WA 98365 United States;X-APPLE-RADIUS=500;X-TITLE=120 Spinnaker Place:geo:-122.7009176,47.9159591
END:VEVENT
BEGIN:VEVENT
DTSTART;TZID=America/Los_Angeles:20250426T190000
DTEND;TZID=America/Los_Angeles:20250426T210000
DTSTAMP:20260423T040930
CREATED:20241212T005631Z
LAST-MODIFIED:20241212T005633Z
UID:10002152-1745694000-1745701200@portludlowresort.com
SUMMARY:PLPA: Barbra Lica Quintet
DESCRIPTION:Barbra Lica’s voice first drew widespread attention when she placed first runner-up at the Sarah Vaughn International Jazz Competition in 2013. That signature sound now has been the centerpiece of seven albums\, mostly of her original music\, and countless tours and jazz festivals from Tokyo to Montreal. Bright and vibrant on one song\, breathy and lilting the next\, Lica varies the mood\, from light and funny to heartfelt and heartbreaking. In addition to her own piano-playing\, depth is provided by her touring partners on bass\, guitar\, keyboards and drums. An appealing performer who enjoys opening up to her audiences\, the Toronto-born artist hasn’t slowed down in the studio\, either. Her eclectic 2024 album of jazz\, folk\, pop\, and rhythm and blues – Impostor Syndrome – earned two nominations from the Canadian Folk Music Awards.
URL:https://portludlowresort.com/event/plpa-barbra-lica-quintet/
LOCATION:Bay Club\, 120 Spinnaker Place\, Port Ludlow\, WA\, 98365\, United States
CATEGORIES:Community
ATTACH;FMTTYPE=image/jpeg:https://portludlowresort.com/wp-content/uploads/2024/08/PLPA-logo.jpg
GEO:47.9159591;-122.7009176
X-APPLE-STRUCTURED-LOCATION;VALUE=URI;X-ADDRESS=Bay Club 120 Spinnaker Place Port Ludlow WA 98365 United States;X-APPLE-RADIUS=500;X-TITLE=120 Spinnaker Place:geo:-122.7009176,47.9159591
END:VEVENT
BEGIN:VEVENT
DTSTART;TZID=America/Los_Angeles:20250329T190000
DTEND;TZID=America/Los_Angeles:20250329T210000
DTSTAMP:20260423T040930
CREATED:20241212T005316Z
LAST-MODIFIED:20241212T005318Z
UID:10002151-1743274800-1743282000@portludlowresort.com
SUMMARY:PLPA: The Paperboys
DESCRIPTION:Safe to say\, after three decades and 4\,000-plus shows\, The Paperboys are musical icons of the Pacific Northwest. The Celtic folk band that singer-songwriter-guitarist Tom Landa founded in Vancouver\, B.C.\, in 1991 now incorporates bluegrass\, Mexican and zydeco – to name just a few influences – in its notoriously feel-good show. They have produced 10 albums\, written scores for movies and tour periodically across Europe. But the six-member ensemble mostly has a reputation among its devoted Northwest followers as simply a great\, live band. Fronted by Landa\, Geoffrey Kelley on flute and guitar\, and Karissa Landa on fiddle – all three providing vocals – The Paperboys have been critically acclaimed in music magazines on both sides of the border\, as well as on NPR and the CBC. But Port Ludlow will feel like a hometown show.
URL:https://portludlowresort.com/event/plpa-the-paperboys/
LOCATION:Bay Club\, 120 Spinnaker Place\, Port Ludlow\, WA\, 98365\, United States
CATEGORIES:Community
ATTACH;FMTTYPE=image/jpeg:https://portludlowresort.com/wp-content/uploads/2024/08/PLPA-logo.jpg
GEO:47.9159591;-122.7009176
X-APPLE-STRUCTURED-LOCATION;VALUE=URI;X-ADDRESS=Bay Club 120 Spinnaker Place Port Ludlow WA 98365 United States;X-APPLE-RADIUS=500;X-TITLE=120 Spinnaker Place:geo:-122.7009176,47.9159591
END:VEVENT
BEGIN:VEVENT
DTSTART;TZID=America/Los_Angeles:20250222T190000
DTEND;TZID=America/Los_Angeles:20250222T210000
DTSTAMP:20260423T040930
CREATED:20241212T005114Z
LAST-MODIFIED:20241212T005207Z
UID:10002150-1740250800-1740258000@portludlowresort.com
SUMMARY:PLPA: The Wardens
DESCRIPTION:With The Wardens\, it’s all about the stories. Yes\, they are musicians\, but band founders Scott Ward and Ray Schmidt\, as well as fiddler Scott Duncan\, have been employed in the national parks of Canada for decades as\, yes\, wardens. These real-life stewards of the land have written songs\, mostly in a country/western style\, that chronicle their adventures in the wilderness. Whether the stories be about a daring rescue mission or a humorous encounter with a bear\, what always comes through is their love\, appreciation and advocacy for the world’s natural wonders. They make it visual as well\, performing in front of a screen depicting their work environs and other enhancements to their storytelling. They’ve been recognized for their performing talents at the Canadian Folk Music Awards and have four albums to their credit. But shortly after a winter of concerts\, in the spring\, they will be heading back to work.
URL:https://portludlowresort.com/event/plpa-the-wardens/
LOCATION:Bay Club\, 120 Spinnaker Place\, Port Ludlow\, WA\, 98365\, United States
CATEGORIES:Community
ATTACH;FMTTYPE=image/jpeg:https://portludlowresort.com/wp-content/uploads/2024/08/PLPA-logo.jpg
GEO:47.9159591;-122.7009176
X-APPLE-STRUCTURED-LOCATION;VALUE=URI;X-ADDRESS=Bay Club 120 Spinnaker Place Port Ludlow WA 98365 United States;X-APPLE-RADIUS=500;X-TITLE=120 Spinnaker Place:geo:-122.7009176,47.9159591
END:VEVENT
END:VCALENDAR