BEGIN:VCALENDAR
VERSION:2.0
PRODID:-//The Resort at Port Ludlow - ECPv6.15.20//NONSGML v1.0//EN
CALSCALE:GREGORIAN
METHOD:PUBLISH
X-ORIGINAL-URL:https://portludlowresort.com
X-WR-CALDESC:Events for The Resort at Port Ludlow
REFRESH-INTERVAL;VALUE=DURATION:PT1H
X-Robots-Tag:noindex
X-PUBLISHED-TTL:PT1H
BEGIN:VTIMEZONE
TZID:America/Los_Angeles
BEGIN:DAYLIGHT
TZOFFSETFROM:-0800
TZOFFSETTO:-0700
TZNAME:PDT
DTSTART:20240310T100000
END:DAYLIGHT
BEGIN:STANDARD
TZOFFSETFROM:-0700
TZOFFSETTO:-0800
TZNAME:PST
DTSTART:20241103T090000
END:STANDARD
BEGIN:DAYLIGHT
TZOFFSETFROM:-0800
TZOFFSETTO:-0700
TZNAME:PDT
DTSTART:20250309T100000
END:DAYLIGHT
BEGIN:STANDARD
TZOFFSETFROM:-0700
TZOFFSETTO:-0800
TZNAME:PST
DTSTART:20251102T090000
END:STANDARD
BEGIN:DAYLIGHT
TZOFFSETFROM:-0800
TZOFFSETTO:-0700
TZNAME:PDT
DTSTART:20260308T100000
END:DAYLIGHT
BEGIN:STANDARD
TZOFFSETFROM:-0700
TZOFFSETTO:-0800
TZNAME:PST
DTSTART:20261101T090000
END:STANDARD
END:VTIMEZONE
BEGIN:VEVENT
DTSTART;TZID=America/Los_Angeles:20250821T173000
DTEND;TZID=America/Los_Angeles:20250821T203000
DTSTAMP:20260423T021855
CREATED:20250708T230638Z
LAST-MODIFIED:20250714T220258Z
UID:10003173-1755797400-1755808200@portludlowresort.com
SUMMARY:Wags & Whiskers on the Waterfront
DESCRIPTION:Join us to make memories and save lives at our inaugural fundraising event\, Wags & Whiskers on the Waterfront\, sponsored by the Resort at Port Ludlow on Thursday\, August 21st\, 2025! \nDine on a chef-curated meal while celebrating the amazing animals and people the Humane Society of Jefferson County support every day\, and learn how you can help us save more lives by participating in our Silent Auction\, Live Auction\, and Paddle Raise! \n\n\n\nYour evening begins with hors d’oeuvres and a complimentary beverage upon arrival. Peruse and bid on Silent Auction items before taking a seat for an eye-opening and heart-warming presentation from Executive Director\, Jen Dupree\, to learn where your help is needed most. Next\, get your paddle ready for bidding on Live Auction items and to support matching donations during the Paddle Raise. Your evening will conclude with a tasty dessert and unforgettable memories of the lives you’ve helped save this year. \n**All proceeds from this event directly support the programs and services we provide to the community\, including Low-income Spay/Neuter\, Adoption\, Mom’s Last Litter\, End-of-Life Services for pet owners\, Licensing and Reunification\, Behavior and Training to keep animals safe in their homes\, and Vaccine & Microchip Clinics.** \n\n\n\n\nPurchase Tickets\n\n\n\n\n\n\nMENU\nHors d’oeuvres-Zucchini Fritters (V)BruschettaSpring Rain Greens Salad: Spring Rain Heirloom Tomatoes\, English Cucumbers\, Shaved Red Onion\, Cider Vinaigrette\, Mystery Bay Goat CheesePorter Braised Beef Short Ribs: Whipped Yukon Gold Potatoes\, Melted Leeks\, Roasted Red Dog Farm Carrots\, Au JusPan Seared Chicken Breast: Whipped Yukon Gold Potatoes\, Roasted Red Dog Farm Carrots\, Heirloom Tomato Sauce SupremeForaged Mushroom Ragout (V): Grilled Asparagus\, Vegetable VeloutéThe Purple Paw (Specialty Cocktail/Mocktail): Gin\, Lavender Syrup\, Fresh Lemon Juice\, Garnish
URL:https://portludlowresort.com/event/wags-whiskers-on-the-waterfront/
LOCATION:Port Ludlow Marina\, 1 Gull Dr\, Port Ludlow\, WA\, 98365\, United States
CATEGORIES:Community,Dining,Resort
ATTACH;FMTTYPE=image/jpeg:https://portludlowresort.com/wp-content/uploads/2025/07/WagsWhiskers.jpg
GEO:47.9233399;-122.6855759
X-APPLE-STRUCTURED-LOCATION;VALUE=URI;X-ADDRESS=Port Ludlow Marina 1 Gull Dr Port Ludlow WA 98365 United States;X-APPLE-RADIUS=500;X-TITLE=1 Gull Dr:geo:-122.6855759,47.9233399
END:VEVENT
END:VCALENDAR