BEGIN:VCALENDAR
VERSION:2.0
PRODID:-//The Resort at Port Ludlow - ECPv6.15.20//NONSGML v1.0//EN
CALSCALE:GREGORIAN
METHOD:PUBLISH
X-ORIGINAL-URL:https://portludlowresort.com
X-WR-CALDESC:Events for The Resort at Port Ludlow
REFRESH-INTERVAL;VALUE=DURATION:PT1H
X-Robots-Tag:noindex
X-PUBLISHED-TTL:PT1H
BEGIN:VTIMEZONE
TZID:America/Los_Angeles
BEGIN:DAYLIGHT
TZOFFSETFROM:-0800
TZOFFSETTO:-0700
TZNAME:PDT
DTSTART:20250309T100000
END:DAYLIGHT
BEGIN:STANDARD
TZOFFSETFROM:-0700
TZOFFSETTO:-0800
TZNAME:PST
DTSTART:20251102T090000
END:STANDARD
BEGIN:DAYLIGHT
TZOFFSETFROM:-0800
TZOFFSETTO:-0700
TZNAME:PDT
DTSTART:20260308T100000
END:DAYLIGHT
BEGIN:STANDARD
TZOFFSETFROM:-0700
TZOFFSETTO:-0800
TZNAME:PST
DTSTART:20261101T090000
END:STANDARD
BEGIN:DAYLIGHT
TZOFFSETFROM:-0800
TZOFFSETTO:-0700
TZNAME:PDT
DTSTART:20270314T100000
END:DAYLIGHT
BEGIN:STANDARD
TZOFFSETFROM:-0700
TZOFFSETTO:-0800
TZNAME:PST
DTSTART:20271107T090000
END:STANDARD
END:VTIMEZONE
BEGIN:VEVENT
DTSTART;TZID=America/Los_Angeles:20260605T090000
DTEND;TZID=America/Los_Angeles:20260605T130000
DTSTAMP:20260419T133604
CREATED:20260413T193913Z
LAST-MODIFIED:20260413T194031Z
UID:10003863-1780650000-1780664400@portludlowresort.com
SUMMARY:Port Ludlow Friday Market
DESCRIPTION:Fresh Local Produce\, Fruits & Gourmet Mushrooms\, Delicious Sauces\, Spices & Teas\, Fine Espresso and Local Bakery Goodies\, Locally Grown Flowers\, Plants\, and Garden Art\, Handmade\, Local Arts & Crafts\, Vintage & Antiques\, Local Non-Profit Groups and More! \nVendor inquires or more information email organizer directly.
URL:https://portludlowresort.com/event/port-ludlow-friday-market/2026-06-05/
LOCATION:Village Center\, Village Way\, Port Ludlow\, 98365\, United States
CATEGORIES:Community
ATTACH;FMTTYPE=image/jpeg:https://portludlowresort.com/wp-content/uploads/2025/05/istockphoto-1397391644.jpg
ORGANIZER;CN="Kandice Crusat":MAILTO:KandiceCrusat@gmail.com
GEO:47.9200998;-122.7023938
X-APPLE-STRUCTURED-LOCATION;VALUE=URI;X-ADDRESS=Village Center Village Way Port Ludlow 98365 United States;X-APPLE-RADIUS=500;X-TITLE=Village Way:geo:-122.7023938,47.9200998
END:VEVENT
BEGIN:VEVENT
DTSTART;TZID=America/Los_Angeles:20260612T090000
DTEND;TZID=America/Los_Angeles:20260612T130000
DTSTAMP:20260419T133604
CREATED:20260413T193913Z
LAST-MODIFIED:20260413T194031Z
UID:10003864-1781254800-1781269200@portludlowresort.com
SUMMARY:Port Ludlow Friday Market
DESCRIPTION:Fresh Local Produce\, Fruits & Gourmet Mushrooms\, Delicious Sauces\, Spices & Teas\, Fine Espresso and Local Bakery Goodies\, Locally Grown Flowers\, Plants\, and Garden Art\, Handmade\, Local Arts & Crafts\, Vintage & Antiques\, Local Non-Profit Groups and More! \nVendor inquires or more information email organizer directly.
URL:https://portludlowresort.com/event/port-ludlow-friday-market/2026-06-12/
LOCATION:Village Center\, Village Way\, Port Ludlow\, 98365\, United States
CATEGORIES:Community
ATTACH;FMTTYPE=image/jpeg:https://portludlowresort.com/wp-content/uploads/2025/05/istockphoto-1397391644.jpg
ORGANIZER;CN="Kandice Crusat":MAILTO:KandiceCrusat@gmail.com
GEO:47.9200998;-122.7023938
X-APPLE-STRUCTURED-LOCATION;VALUE=URI;X-ADDRESS=Village Center Village Way Port Ludlow 98365 United States;X-APPLE-RADIUS=500;X-TITLE=Village Way:geo:-122.7023938,47.9200998
END:VEVENT
BEGIN:VEVENT
DTSTART;TZID=America/Los_Angeles:20260619T090000
DTEND;TZID=America/Los_Angeles:20260619T130000
DTSTAMP:20260419T133604
CREATED:20260413T193913Z
LAST-MODIFIED:20260413T194031Z
UID:10003865-1781859600-1781874000@portludlowresort.com
SUMMARY:Port Ludlow Friday Market
DESCRIPTION:Fresh Local Produce\, Fruits & Gourmet Mushrooms\, Delicious Sauces\, Spices & Teas\, Fine Espresso and Local Bakery Goodies\, Locally Grown Flowers\, Plants\, and Garden Art\, Handmade\, Local Arts & Crafts\, Vintage & Antiques\, Local Non-Profit Groups and More! \nVendor inquires or more information email organizer directly.
URL:https://portludlowresort.com/event/port-ludlow-friday-market/2026-06-19/
LOCATION:Village Center\, Village Way\, Port Ludlow\, 98365\, United States
CATEGORIES:Community
ATTACH;FMTTYPE=image/jpeg:https://portludlowresort.com/wp-content/uploads/2025/05/istockphoto-1397391644.jpg
ORGANIZER;CN="Kandice Crusat":MAILTO:KandiceCrusat@gmail.com
GEO:47.9200998;-122.7023938
X-APPLE-STRUCTURED-LOCATION;VALUE=URI;X-ADDRESS=Village Center Village Way Port Ludlow 98365 United States;X-APPLE-RADIUS=500;X-TITLE=Village Way:geo:-122.7023938,47.9200998
END:VEVENT
BEGIN:VEVENT
DTSTART;TZID=America/Los_Angeles:20260626T090000
DTEND;TZID=America/Los_Angeles:20260626T130000
DTSTAMP:20260419T133604
CREATED:20260413T193913Z
LAST-MODIFIED:20260413T194031Z
UID:10003866-1782464400-1782478800@portludlowresort.com
SUMMARY:Port Ludlow Friday Market
DESCRIPTION:Fresh Local Produce\, Fruits & Gourmet Mushrooms\, Delicious Sauces\, Spices & Teas\, Fine Espresso and Local Bakery Goodies\, Locally Grown Flowers\, Plants\, and Garden Art\, Handmade\, Local Arts & Crafts\, Vintage & Antiques\, Local Non-Profit Groups and More! \nVendor inquires or more information email organizer directly.
URL:https://portludlowresort.com/event/port-ludlow-friday-market/2026-06-26/
LOCATION:Village Center\, Village Way\, Port Ludlow\, 98365\, United States
CATEGORIES:Community
ATTACH;FMTTYPE=image/jpeg:https://portludlowresort.com/wp-content/uploads/2025/05/istockphoto-1397391644.jpg
ORGANIZER;CN="Kandice Crusat":MAILTO:KandiceCrusat@gmail.com
GEO:47.9200998;-122.7023938
X-APPLE-STRUCTURED-LOCATION;VALUE=URI;X-ADDRESS=Village Center Village Way Port Ludlow 98365 United States;X-APPLE-RADIUS=500;X-TITLE=Village Way:geo:-122.7023938,47.9200998
END:VEVENT
BEGIN:VEVENT
DTSTART;TZID=America/Los_Angeles:20260703T090000
DTEND;TZID=America/Los_Angeles:20260703T130000
DTSTAMP:20260419T133604
CREATED:20260413T193913Z
LAST-MODIFIED:20260413T194031Z
UID:10003867-1783069200-1783083600@portludlowresort.com
SUMMARY:Port Ludlow Friday Market
DESCRIPTION:Fresh Local Produce\, Fruits & Gourmet Mushrooms\, Delicious Sauces\, Spices & Teas\, Fine Espresso and Local Bakery Goodies\, Locally Grown Flowers\, Plants\, and Garden Art\, Handmade\, Local Arts & Crafts\, Vintage & Antiques\, Local Non-Profit Groups and More! \nVendor inquires or more information email organizer directly.
URL:https://portludlowresort.com/event/port-ludlow-friday-market/2026-07-03/
LOCATION:Village Center\, Village Way\, Port Ludlow\, 98365\, United States
CATEGORIES:Community
ATTACH;FMTTYPE=image/jpeg:https://portludlowresort.com/wp-content/uploads/2025/05/istockphoto-1397391644.jpg
ORGANIZER;CN="Kandice Crusat":MAILTO:KandiceCrusat@gmail.com
GEO:47.9200998;-122.7023938
X-APPLE-STRUCTURED-LOCATION;VALUE=URI;X-ADDRESS=Village Center Village Way Port Ludlow 98365 United States;X-APPLE-RADIUS=500;X-TITLE=Village Way:geo:-122.7023938,47.9200998
END:VEVENT
BEGIN:VEVENT
DTSTART;TZID=America/Los_Angeles:20260710T090000
DTEND;TZID=America/Los_Angeles:20260710T130000
DTSTAMP:20260419T133604
CREATED:20260413T193913Z
LAST-MODIFIED:20260413T194031Z
UID:10003868-1783674000-1783688400@portludlowresort.com
SUMMARY:Port Ludlow Friday Market
DESCRIPTION:Fresh Local Produce\, Fruits & Gourmet Mushrooms\, Delicious Sauces\, Spices & Teas\, Fine Espresso and Local Bakery Goodies\, Locally Grown Flowers\, Plants\, and Garden Art\, Handmade\, Local Arts & Crafts\, Vintage & Antiques\, Local Non-Profit Groups and More! \nVendor inquires or more information email organizer directly.
URL:https://portludlowresort.com/event/port-ludlow-friday-market/2026-07-10/
LOCATION:Village Center\, Village Way\, Port Ludlow\, 98365\, United States
CATEGORIES:Community
ATTACH;FMTTYPE=image/jpeg:https://portludlowresort.com/wp-content/uploads/2025/05/istockphoto-1397391644.jpg
ORGANIZER;CN="Kandice Crusat":MAILTO:KandiceCrusat@gmail.com
GEO:47.9200998;-122.7023938
X-APPLE-STRUCTURED-LOCATION;VALUE=URI;X-ADDRESS=Village Center Village Way Port Ludlow 98365 United States;X-APPLE-RADIUS=500;X-TITLE=Village Way:geo:-122.7023938,47.9200998
END:VEVENT
BEGIN:VEVENT
DTSTART;TZID=America/Los_Angeles:20260717T090000
DTEND;TZID=America/Los_Angeles:20260717T130000
DTSTAMP:20260419T133604
CREATED:20260413T193913Z
LAST-MODIFIED:20260413T194031Z
UID:10003869-1784278800-1784293200@portludlowresort.com
SUMMARY:Port Ludlow Friday Market
DESCRIPTION:Fresh Local Produce\, Fruits & Gourmet Mushrooms\, Delicious Sauces\, Spices & Teas\, Fine Espresso and Local Bakery Goodies\, Locally Grown Flowers\, Plants\, and Garden Art\, Handmade\, Local Arts & Crafts\, Vintage & Antiques\, Local Non-Profit Groups and More! \nVendor inquires or more information email organizer directly.
URL:https://portludlowresort.com/event/port-ludlow-friday-market/2026-07-17/
LOCATION:Village Center\, Village Way\, Port Ludlow\, 98365\, United States
CATEGORIES:Community
ATTACH;FMTTYPE=image/jpeg:https://portludlowresort.com/wp-content/uploads/2025/05/istockphoto-1397391644.jpg
ORGANIZER;CN="Kandice Crusat":MAILTO:KandiceCrusat@gmail.com
GEO:47.9200998;-122.7023938
X-APPLE-STRUCTURED-LOCATION;VALUE=URI;X-ADDRESS=Village Center Village Way Port Ludlow 98365 United States;X-APPLE-RADIUS=500;X-TITLE=Village Way:geo:-122.7023938,47.9200998
END:VEVENT
BEGIN:VEVENT
DTSTART;TZID=America/Los_Angeles:20260724T090000
DTEND;TZID=America/Los_Angeles:20260724T130000
DTSTAMP:20260419T133604
CREATED:20260413T193913Z
LAST-MODIFIED:20260413T194031Z
UID:10003870-1784883600-1784898000@portludlowresort.com
SUMMARY:Port Ludlow Friday Market
DESCRIPTION:Fresh Local Produce\, Fruits & Gourmet Mushrooms\, Delicious Sauces\, Spices & Teas\, Fine Espresso and Local Bakery Goodies\, Locally Grown Flowers\, Plants\, and Garden Art\, Handmade\, Local Arts & Crafts\, Vintage & Antiques\, Local Non-Profit Groups and More! \nVendor inquires or more information email organizer directly.
URL:https://portludlowresort.com/event/port-ludlow-friday-market/2026-07-24/
LOCATION:Village Center\, Village Way\, Port Ludlow\, 98365\, United States
CATEGORIES:Community
ATTACH;FMTTYPE=image/jpeg:https://portludlowresort.com/wp-content/uploads/2025/05/istockphoto-1397391644.jpg
ORGANIZER;CN="Kandice Crusat":MAILTO:KandiceCrusat@gmail.com
GEO:47.9200998;-122.7023938
X-APPLE-STRUCTURED-LOCATION;VALUE=URI;X-ADDRESS=Village Center Village Way Port Ludlow 98365 United States;X-APPLE-RADIUS=500;X-TITLE=Village Way:geo:-122.7023938,47.9200998
END:VEVENT
BEGIN:VEVENT
DTSTART;TZID=America/Los_Angeles:20260731T090000
DTEND;TZID=America/Los_Angeles:20260731T130000
DTSTAMP:20260419T133604
CREATED:20260413T193913Z
LAST-MODIFIED:20260413T194031Z
UID:10003871-1785488400-1785502800@portludlowresort.com
SUMMARY:Port Ludlow Friday Market
DESCRIPTION:Fresh Local Produce\, Fruits & Gourmet Mushrooms\, Delicious Sauces\, Spices & Teas\, Fine Espresso and Local Bakery Goodies\, Locally Grown Flowers\, Plants\, and Garden Art\, Handmade\, Local Arts & Crafts\, Vintage & Antiques\, Local Non-Profit Groups and More! \nVendor inquires or more information email organizer directly.
URL:https://portludlowresort.com/event/port-ludlow-friday-market/2026-07-31/
LOCATION:Village Center\, Village Way\, Port Ludlow\, 98365\, United States
CATEGORIES:Community
ATTACH;FMTTYPE=image/jpeg:https://portludlowresort.com/wp-content/uploads/2025/05/istockphoto-1397391644.jpg
ORGANIZER;CN="Kandice Crusat":MAILTO:KandiceCrusat@gmail.com
GEO:47.9200998;-122.7023938
X-APPLE-STRUCTURED-LOCATION;VALUE=URI;X-ADDRESS=Village Center Village Way Port Ludlow 98365 United States;X-APPLE-RADIUS=500;X-TITLE=Village Way:geo:-122.7023938,47.9200998
END:VEVENT
BEGIN:VEVENT
DTSTART;TZID=America/Los_Angeles:20260807T090000
DTEND;TZID=America/Los_Angeles:20260807T130000
DTSTAMP:20260419T133604
CREATED:20260413T193913Z
LAST-MODIFIED:20260413T194031Z
UID:10003872-1786093200-1786107600@portludlowresort.com
SUMMARY:Port Ludlow Friday Market
DESCRIPTION:Fresh Local Produce\, Fruits & Gourmet Mushrooms\, Delicious Sauces\, Spices & Teas\, Fine Espresso and Local Bakery Goodies\, Locally Grown Flowers\, Plants\, and Garden Art\, Handmade\, Local Arts & Crafts\, Vintage & Antiques\, Local Non-Profit Groups and More! \nVendor inquires or more information email organizer directly.
URL:https://portludlowresort.com/event/port-ludlow-friday-market/2026-08-07/
LOCATION:Village Center\, Village Way\, Port Ludlow\, 98365\, United States
CATEGORIES:Community
ATTACH;FMTTYPE=image/jpeg:https://portludlowresort.com/wp-content/uploads/2025/05/istockphoto-1397391644.jpg
ORGANIZER;CN="Kandice Crusat":MAILTO:KandiceCrusat@gmail.com
GEO:47.9200998;-122.7023938
X-APPLE-STRUCTURED-LOCATION;VALUE=URI;X-ADDRESS=Village Center Village Way Port Ludlow 98365 United States;X-APPLE-RADIUS=500;X-TITLE=Village Way:geo:-122.7023938,47.9200998
END:VEVENT
BEGIN:VEVENT
DTSTART;TZID=America/Los_Angeles:20260814T090000
DTEND;TZID=America/Los_Angeles:20260814T130000
DTSTAMP:20260419T133604
CREATED:20260413T193913Z
LAST-MODIFIED:20260413T194031Z
UID:10003873-1786698000-1786712400@portludlowresort.com
SUMMARY:Port Ludlow Friday Market
DESCRIPTION:Fresh Local Produce\, Fruits & Gourmet Mushrooms\, Delicious Sauces\, Spices & Teas\, Fine Espresso and Local Bakery Goodies\, Locally Grown Flowers\, Plants\, and Garden Art\, Handmade\, Local Arts & Crafts\, Vintage & Antiques\, Local Non-Profit Groups and More! \nVendor inquires or more information email organizer directly.
URL:https://portludlowresort.com/event/port-ludlow-friday-market/2026-08-14/
LOCATION:Village Center\, Village Way\, Port Ludlow\, 98365\, United States
CATEGORIES:Community
ATTACH;FMTTYPE=image/jpeg:https://portludlowresort.com/wp-content/uploads/2025/05/istockphoto-1397391644.jpg
ORGANIZER;CN="Kandice Crusat":MAILTO:KandiceCrusat@gmail.com
GEO:47.9200998;-122.7023938
X-APPLE-STRUCTURED-LOCATION;VALUE=URI;X-ADDRESS=Village Center Village Way Port Ludlow 98365 United States;X-APPLE-RADIUS=500;X-TITLE=Village Way:geo:-122.7023938,47.9200998
END:VEVENT
BEGIN:VEVENT
DTSTART;TZID=America/Los_Angeles:20260821T090000
DTEND;TZID=America/Los_Angeles:20260821T130000
DTSTAMP:20260419T133604
CREATED:20260413T193913Z
LAST-MODIFIED:20260413T194031Z
UID:10003874-1787302800-1787317200@portludlowresort.com
SUMMARY:Port Ludlow Friday Market
DESCRIPTION:Fresh Local Produce\, Fruits & Gourmet Mushrooms\, Delicious Sauces\, Spices & Teas\, Fine Espresso and Local Bakery Goodies\, Locally Grown Flowers\, Plants\, and Garden Art\, Handmade\, Local Arts & Crafts\, Vintage & Antiques\, Local Non-Profit Groups and More! \nVendor inquires or more information email organizer directly.
URL:https://portludlowresort.com/event/port-ludlow-friday-market/2026-08-21/
LOCATION:Village Center\, Village Way\, Port Ludlow\, 98365\, United States
CATEGORIES:Community
ATTACH;FMTTYPE=image/jpeg:https://portludlowresort.com/wp-content/uploads/2025/05/istockphoto-1397391644.jpg
ORGANIZER;CN="Kandice Crusat":MAILTO:KandiceCrusat@gmail.com
GEO:47.9200998;-122.7023938
X-APPLE-STRUCTURED-LOCATION;VALUE=URI;X-ADDRESS=Village Center Village Way Port Ludlow 98365 United States;X-APPLE-RADIUS=500;X-TITLE=Village Way:geo:-122.7023938,47.9200998
END:VEVENT
BEGIN:VEVENT
DTSTART;TZID=America/Los_Angeles:20260828T090000
DTEND;TZID=America/Los_Angeles:20260828T130000
DTSTAMP:20260419T133604
CREATED:20260413T193913Z
LAST-MODIFIED:20260413T194031Z
UID:10003875-1787907600-1787922000@portludlowresort.com
SUMMARY:Port Ludlow Friday Market
DESCRIPTION:Fresh Local Produce\, Fruits & Gourmet Mushrooms\, Delicious Sauces\, Spices & Teas\, Fine Espresso and Local Bakery Goodies\, Locally Grown Flowers\, Plants\, and Garden Art\, Handmade\, Local Arts & Crafts\, Vintage & Antiques\, Local Non-Profit Groups and More! \nVendor inquires or more information email organizer directly.
URL:https://portludlowresort.com/event/port-ludlow-friday-market/2026-08-28/
LOCATION:Village Center\, Village Way\, Port Ludlow\, 98365\, United States
CATEGORIES:Community
ATTACH;FMTTYPE=image/jpeg:https://portludlowresort.com/wp-content/uploads/2025/05/istockphoto-1397391644.jpg
ORGANIZER;CN="Kandice Crusat":MAILTO:KandiceCrusat@gmail.com
GEO:47.9200998;-122.7023938
X-APPLE-STRUCTURED-LOCATION;VALUE=URI;X-ADDRESS=Village Center Village Way Port Ludlow 98365 United States;X-APPLE-RADIUS=500;X-TITLE=Village Way:geo:-122.7023938,47.9200998
END:VEVENT
BEGIN:VEVENT
DTSTART;TZID=America/Los_Angeles:20260904T090000
DTEND;TZID=America/Los_Angeles:20260904T130000
DTSTAMP:20260419T133604
CREATED:20260413T193913Z
LAST-MODIFIED:20260413T194031Z
UID:10003876-1788512400-1788526800@portludlowresort.com
SUMMARY:Port Ludlow Friday Market
DESCRIPTION:Fresh Local Produce\, Fruits & Gourmet Mushrooms\, Delicious Sauces\, Spices & Teas\, Fine Espresso and Local Bakery Goodies\, Locally Grown Flowers\, Plants\, and Garden Art\, Handmade\, Local Arts & Crafts\, Vintage & Antiques\, Local Non-Profit Groups and More! \nVendor inquires or more information email organizer directly.
URL:https://portludlowresort.com/event/port-ludlow-friday-market/2026-09-04/
LOCATION:Village Center\, Village Way\, Port Ludlow\, 98365\, United States
CATEGORIES:Community
ATTACH;FMTTYPE=image/jpeg:https://portludlowresort.com/wp-content/uploads/2025/05/istockphoto-1397391644.jpg
ORGANIZER;CN="Kandice Crusat":MAILTO:KandiceCrusat@gmail.com
GEO:47.9200998;-122.7023938
X-APPLE-STRUCTURED-LOCATION;VALUE=URI;X-ADDRESS=Village Center Village Way Port Ludlow 98365 United States;X-APPLE-RADIUS=500;X-TITLE=Village Way:geo:-122.7023938,47.9200998
END:VEVENT
BEGIN:VEVENT
DTSTART;TZID=America/Los_Angeles:20260911T090000
DTEND;TZID=America/Los_Angeles:20260911T130000
DTSTAMP:20260419T133604
CREATED:20260413T193913Z
LAST-MODIFIED:20260413T194031Z
UID:10003877-1789117200-1789131600@portludlowresort.com
SUMMARY:Port Ludlow Friday Market
DESCRIPTION:Fresh Local Produce\, Fruits & Gourmet Mushrooms\, Delicious Sauces\, Spices & Teas\, Fine Espresso and Local Bakery Goodies\, Locally Grown Flowers\, Plants\, and Garden Art\, Handmade\, Local Arts & Crafts\, Vintage & Antiques\, Local Non-Profit Groups and More! \nVendor inquires or more information email organizer directly.
URL:https://portludlowresort.com/event/port-ludlow-friday-market/2026-09-11/
LOCATION:Village Center\, Village Way\, Port Ludlow\, 98365\, United States
CATEGORIES:Community
ATTACH;FMTTYPE=image/jpeg:https://portludlowresort.com/wp-content/uploads/2025/05/istockphoto-1397391644.jpg
ORGANIZER;CN="Kandice Crusat":MAILTO:KandiceCrusat@gmail.com
GEO:47.9200998;-122.7023938
X-APPLE-STRUCTURED-LOCATION;VALUE=URI;X-ADDRESS=Village Center Village Way Port Ludlow 98365 United States;X-APPLE-RADIUS=500;X-TITLE=Village Way:geo:-122.7023938,47.9200998
END:VEVENT
BEGIN:VEVENT
DTSTART;TZID=America/Los_Angeles:20260918T090000
DTEND;TZID=America/Los_Angeles:20260918T130000
DTSTAMP:20260419T133604
CREATED:20260413T193913Z
LAST-MODIFIED:20260413T194031Z
UID:10003878-1789722000-1789736400@portludlowresort.com
SUMMARY:Port Ludlow Friday Market
DESCRIPTION:Fresh Local Produce\, Fruits & Gourmet Mushrooms\, Delicious Sauces\, Spices & Teas\, Fine Espresso and Local Bakery Goodies\, Locally Grown Flowers\, Plants\, and Garden Art\, Handmade\, Local Arts & Crafts\, Vintage & Antiques\, Local Non-Profit Groups and More! \nVendor inquires or more information email organizer directly.
URL:https://portludlowresort.com/event/port-ludlow-friday-market/2026-09-18/
LOCATION:Village Center\, Village Way\, Port Ludlow\, 98365\, United States
CATEGORIES:Community
ATTACH;FMTTYPE=image/jpeg:https://portludlowresort.com/wp-content/uploads/2025/05/istockphoto-1397391644.jpg
ORGANIZER;CN="Kandice Crusat":MAILTO:KandiceCrusat@gmail.com
GEO:47.9200998;-122.7023938
X-APPLE-STRUCTURED-LOCATION;VALUE=URI;X-ADDRESS=Village Center Village Way Port Ludlow 98365 United States;X-APPLE-RADIUS=500;X-TITLE=Village Way:geo:-122.7023938,47.9200998
END:VEVENT
BEGIN:VEVENT
DTSTART;TZID=America/Los_Angeles:20260925T090000
DTEND;TZID=America/Los_Angeles:20260925T130000
DTSTAMP:20260419T133604
CREATED:20260413T193913Z
LAST-MODIFIED:20260413T194031Z
UID:10003879-1790326800-1790341200@portludlowresort.com
SUMMARY:Port Ludlow Friday Market
DESCRIPTION:Fresh Local Produce\, Fruits & Gourmet Mushrooms\, Delicious Sauces\, Spices & Teas\, Fine Espresso and Local Bakery Goodies\, Locally Grown Flowers\, Plants\, and Garden Art\, Handmade\, Local Arts & Crafts\, Vintage & Antiques\, Local Non-Profit Groups and More! \nVendor inquires or more information email organizer directly.
URL:https://portludlowresort.com/event/port-ludlow-friday-market/2026-09-25/
LOCATION:Village Center\, Village Way\, Port Ludlow\, 98365\, United States
CATEGORIES:Community
ATTACH;FMTTYPE=image/jpeg:https://portludlowresort.com/wp-content/uploads/2025/05/istockphoto-1397391644.jpg
ORGANIZER;CN="Kandice Crusat":MAILTO:KandiceCrusat@gmail.com
GEO:47.9200998;-122.7023938
X-APPLE-STRUCTURED-LOCATION;VALUE=URI;X-ADDRESS=Village Center Village Way Port Ludlow 98365 United States;X-APPLE-RADIUS=500;X-TITLE=Village Way:geo:-122.7023938,47.9200998
END:VEVENT
END:VCALENDAR