BEGIN:VCALENDAR
VERSION:2.0
PRODID:-//The Resort at Port Ludlow - ECPv6.15.20//NONSGML v1.0//EN
CALSCALE:GREGORIAN
METHOD:PUBLISH
X-WR-CALNAME:The Resort at Port Ludlow
X-ORIGINAL-URL:https://portludlowresort.com
X-WR-CALDESC:Events for The Resort at Port Ludlow
REFRESH-INTERVAL;VALUE=DURATION:PT1H
X-Robots-Tag:noindex
X-PUBLISHED-TTL:PT1H
BEGIN:VTIMEZONE
TZID:America/Los_Angeles
BEGIN:DAYLIGHT
TZOFFSETFROM:-0800
TZOFFSETTO:-0700
TZNAME:PDT
DTSTART:20250309T100000
END:DAYLIGHT
BEGIN:STANDARD
TZOFFSETFROM:-0700
TZOFFSETTO:-0800
TZNAME:PST
DTSTART:20251102T090000
END:STANDARD
BEGIN:DAYLIGHT
TZOFFSETFROM:-0800
TZOFFSETTO:-0700
TZNAME:PDT
DTSTART:20260308T100000
END:DAYLIGHT
BEGIN:STANDARD
TZOFFSETFROM:-0700
TZOFFSETTO:-0800
TZNAME:PST
DTSTART:20261101T090000
END:STANDARD
BEGIN:DAYLIGHT
TZOFFSETFROM:-0800
TZOFFSETTO:-0700
TZNAME:PDT
DTSTART:20270314T100000
END:DAYLIGHT
BEGIN:STANDARD
TZOFFSETFROM:-0700
TZOFFSETTO:-0800
TZNAME:PST
DTSTART:20271107T090000
END:STANDARD
END:VTIMEZONE
BEGIN:VEVENT
DTSTART;TZID=America/Los_Angeles:20260530T100000
DTEND;TZID=America/Los_Angeles:20260531T000000
DTSTAMP:20260422T035548
CREATED:20260413T212930Z
LAST-MODIFIED:20260413T212930Z
UID:10003886-1780135200-1780185600@portludlowresort.com
SUMMARY:Spring into Summer Wine Tour
DESCRIPTION:Celebrate the start of summer with a delightful day of wine tasting in beautiful Port Townsend! \nJoin us for this new Spring Into Summer Wine Tour\, where you’ll visit four of Port Townsend’s premier wineries and enjoy a curated tasting of three unique wines at each stop. \nStroll through charming tasting rooms\, discover new favorite wines\, and soak in the relaxed coastal atmosphere that makes Port Townsend so special. Along the way\, enjoy light snacks and take home a commemorative wine glass to remember the day. \nGather your friends\, sip something wonderful\, and toast to the arrival of summer on the Olympic Peninsula. \nParticipating Wineries:\nFairWinds Winery\nEaglemont Wine & Cider\nPort Townsend Vineyards\nCastle & Crown Cellars \nThis is a 21+ event. Please no pets or children.
URL:https://portludlowresort.com/event/spring-into-summer-wine-tour/2026-05-30/
LOCATION:Port Townsend\, Port Townsend\, WA\, 98368\, United States
CATEGORIES:Community
ATTACH;FMTTYPE=image/jpeg:https://portludlowresort.com/wp-content/uploads/2026/04/ptwinetour-spring.jpg
GEO:48.1170387;-122.7604472
END:VEVENT
BEGIN:VEVENT
DTSTART;TZID=America/Los_Angeles:20260531T100000
DTEND;TZID=America/Los_Angeles:20260531T142930
DTSTAMP:20260422T035548
CREATED:20260413T212930Z
LAST-MODIFIED:20260413T212930Z
UID:10003887-1780221600-1780237770@portludlowresort.com
SUMMARY:Spring into Summer Wine Tour
DESCRIPTION:Celebrate the start of summer with a delightful day of wine tasting in beautiful Port Townsend! \nJoin us for this new Spring Into Summer Wine Tour\, where you’ll visit four of Port Townsend’s premier wineries and enjoy a curated tasting of three unique wines at each stop. \nStroll through charming tasting rooms\, discover new favorite wines\, and soak in the relaxed coastal atmosphere that makes Port Townsend so special. Along the way\, enjoy light snacks and take home a commemorative wine glass to remember the day. \nGather your friends\, sip something wonderful\, and toast to the arrival of summer on the Olympic Peninsula. \nParticipating Wineries:\nFairWinds Winery\nEaglemont Wine & Cider\nPort Townsend Vineyards\nCastle & Crown Cellars \nThis is a 21+ event. Please no pets or children.
URL:https://portludlowresort.com/event/spring-into-summer-wine-tour/2026-05-31/
LOCATION:Port Townsend\, Port Townsend\, WA\, 98368\, United States
CATEGORIES:Community
ATTACH;FMTTYPE=image/jpeg:https://portludlowresort.com/wp-content/uploads/2026/04/ptwinetour-spring.jpg
GEO:48.1170387;-122.7604472
END:VEVENT
END:VCALENDAR