BEGIN:VCALENDAR
VERSION:2.0
PRODID:-//The Resort at Port Ludlow - ECPv6.15.20//NONSGML v1.0//EN
CALSCALE:GREGORIAN
METHOD:PUBLISH
X-ORIGINAL-URL:https://portludlowresort.com
X-WR-CALDESC:Events for The Resort at Port Ludlow
REFRESH-INTERVAL;VALUE=DURATION:PT1H
X-Robots-Tag:noindex
X-PUBLISHED-TTL:PT1H
BEGIN:VTIMEZONE
TZID:America/Los_Angeles
BEGIN:DAYLIGHT
TZOFFSETFROM:-0800
TZOFFSETTO:-0700
TZNAME:PDT
DTSTART:20240310T100000
END:DAYLIGHT
BEGIN:STANDARD
TZOFFSETFROM:-0700
TZOFFSETTO:-0800
TZNAME:PST
DTSTART:20241103T090000
END:STANDARD
BEGIN:DAYLIGHT
TZOFFSETFROM:-0800
TZOFFSETTO:-0700
TZNAME:PDT
DTSTART:20250309T100000
END:DAYLIGHT
BEGIN:STANDARD
TZOFFSETFROM:-0700
TZOFFSETTO:-0800
TZNAME:PST
DTSTART:20251102T090000
END:STANDARD
BEGIN:DAYLIGHT
TZOFFSETFROM:-0800
TZOFFSETTO:-0700
TZNAME:PDT
DTSTART:20260308T100000
END:DAYLIGHT
BEGIN:STANDARD
TZOFFSETFROM:-0700
TZOFFSETTO:-0800
TZNAME:PST
DTSTART:20261101T090000
END:STANDARD
BEGIN:DAYLIGHT
TZOFFSETFROM:-0800
TZOFFSETTO:-0700
TZNAME:PDT
DTSTART:20270314T100000
END:DAYLIGHT
BEGIN:STANDARD
TZOFFSETFROM:-0700
TZOFFSETTO:-0800
TZNAME:PST
DTSTART:20271107T090000
END:STANDARD
END:VTIMEZONE
BEGIN:VEVENT
DTSTART;TZID=America/Los_Angeles:20260417T110000
DTEND;TZID=America/Los_Angeles:20260417T153000
DTSTAMP:20260422T063301
CREATED:20260303T211215Z
LAST-MODIFIED:20260319T190624Z
UID:10003663-1776423600-1776439800@portludlowresort.com
SUMMARY:Srixon/Cleveland Fitting Day
DESCRIPTION:Fittings are by appointment only. Please contact the Pro Shop for more details.\n\n\n\n\n\n\n\nSchedule Fitting\n\n\n\n\n\n\n\n\n\n2026 SCHEDULE\nApril 17: Srixon/Cleveland\nJune 11: Callaway\nJune 18: Srixon/Cleveland\nJune 25: TaylorMade\nJuly 16: Titleist\n\nSubject to change without notice.
URL:https://portludlowresort.com/event/fitting-day-srixon/
LOCATION:Port Ludlow Golf Course\, 751 Highland Drive\, Port Ludlow\, 98365
CATEGORIES:Golf
ATTACH;FMTTYPE=image/jpeg:https://portludlowresort.com/wp-content/uploads/2024/03/FittingDays.jpg
GEO:47.9046237;-122.6927319
X-APPLE-STRUCTURED-LOCATION;VALUE=URI;X-ADDRESS=Port Ludlow Golf Course 751 Highland Drive Port Ludlow 98365;X-APPLE-RADIUS=500;X-TITLE=751 Highland Drive:geo:-122.6927319,47.9046237
END:VEVENT
BEGIN:VEVENT
DTSTART;TZID=America/Los_Angeles:20260416T170000
DTEND;TZID=America/Los_Angeles:20260416T183000
DTSTAMP:20260422T063301
CREATED:20260319T191835Z
LAST-MODIFIED:20260319T191953Z
UID:10003673-1776358800-1776364200@portludlowresort.com
SUMMARY:2026 Spark Golf League
DESCRIPTION:Spark Golf leagues are 9-hole\, social golf leagues that are played under a relaxed set of rules to make the experience casual and fun with a touch of friendly competition. \n\nJoining a league is free! League rounds are available for purchase each week or you can save money by pre-paying for Spark credit at a discount. \n\nJoin with a partner or play as a single with other Spark players. Earn points towards the season standings based on how you finish each round. \n\nMost of all\, have fun! \n\n\n\n\n\nRegister to Play\n\n\n\n\n\n\n\n\n\nPlay every week or as often as your schedule allows. No fee to join\, only pay for the rounds you play.\nPlay with local friends and meet like-minded new ones.\nHandicaps provided. No existing handicap necessary.\nEach Spark round has both a 2-person team & individual game with end of season champs.
URL:https://portludlowresort.com/event/2026-spark-golf-league/2026-04-16/
LOCATION:Port Ludlow Golf Course\, 751 Highland Drive\, Port Ludlow\, 98365
CATEGORIES:Golf
ATTACH;FMTTYPE=image/jpeg:https://portludlowresort.com/wp-content/uploads/2025/02/sparkgolf-1.jpg
GEO:47.9046237;-122.6927319
X-APPLE-STRUCTURED-LOCATION;VALUE=URI;X-ADDRESS=Port Ludlow Golf Course 751 Highland Drive Port Ludlow 98365;X-APPLE-RADIUS=500;X-TITLE=751 Highland Drive:geo:-122.6927319,47.9046237
END:VEVENT
BEGIN:VEVENT
DTSTART;VALUE=DATE:20260404
DTEND;VALUE=DATE:20260405
DTSTAMP:20260422T063301
CREATED:20260319T193132Z
LAST-MODIFIED:20260320T231400Z
UID:10003698-1775289600-1775322000@portludlowresort.com
SUMMARY:US Kids Events
DESCRIPTION:April 3: Parent-Child Event\nThe Tacoma Local Parent/Child is a chance for parents to team up with their young player in a fun day of golf on Friday\, April 3rd\, 2026. \n\nRegistration: Registration is on a first-come\, first-serve basis. Adult partners must be at least 18 years old and cannot compete with more than one junior golfer.\nCost: $150 per team. Includes: 9-Hole greens fees and a cart.\nStart Time: Tee times will be posted 2 days prior to the event.\nFormat: Scramble.\nAwards: Trophies will be presented to the 1st and 2nd place teams in each age group. One award is given per winning team.\n\nApril 4: Tacoma Local Tour
URL:https://portludlowresort.com/event/us-kids-events/2026-04-04/
LOCATION:Port Ludlow Golf Course\, 751 Highland Drive\, Port Ludlow\, 98365
CATEGORIES:Golf
ATTACH;FMTTYPE=image/png:https://portludlowresort.com/wp-content/uploads/2026/03/uskidsgolf.png
GEO:47.9046237;-122.6927319
X-APPLE-STRUCTURED-LOCATION;VALUE=URI;X-ADDRESS=Port Ludlow Golf Course 751 Highland Drive Port Ludlow 98365;X-APPLE-RADIUS=500;X-TITLE=751 Highland Drive:geo:-122.6927319,47.9046237
END:VEVENT
BEGIN:VEVENT
DTSTART;VALUE=DATE:20260322
DTEND;VALUE=DATE:20260324
DTSTAMP:20260422T063301
CREATED:20260319T192402Z
LAST-MODIFIED:20260319T192534Z
UID:10003694-1774137600-1774310399@portludlowresort.com
SUMMARY:Spring Greens Aerification - Course Closed
DESCRIPTION:Our scheduled Spring greens aerification will begin Sunday\, March 22 at 3pm on the Front 9. No tee times will be taken after aerification begins on Sunday and the golf course\, putting green and chipping areas will be closed all day on Monday\, March 23 as aerification continues. If needed\, clean-up and the completion of the project will be Tuesday & Wednesday\, March 24 & 25.
URL:https://portludlowresort.com/event/greens-aerification/
LOCATION:Port Ludlow Golf Course\, 751 Highland Drive\, Port Ludlow\, 98365
CATEGORIES:Golf
ATTACH;FMTTYPE=image/jpeg:https://portludlowresort.com/wp-content/uploads/2025/03/aeration.jpg
GEO:47.9046237;-122.6927319
X-APPLE-STRUCTURED-LOCATION;VALUE=URI;X-ADDRESS=Port Ludlow Golf Course 751 Highland Drive Port Ludlow 98365;X-APPLE-RADIUS=500;X-TITLE=751 Highland Drive:geo:-122.6927319,47.9046237
END:VEVENT
BEGIN:VEVENT
DTSTART;TZID=America/Los_Angeles:20260315T100000
DTEND;TZID=America/Los_Angeles:20260315T160000
DTSTAMP:20260422T063301
CREATED:20260217T173930Z
LAST-MODIFIED:20260217T174829Z
UID:10003637-1773568800-1773590400@portludlowresort.com
SUMMARY:Seattle Golf Show
DESCRIPTION:SNOQUALMIE CASINO & HOTEL welcomes the Seattle Golf Show\, March 13-15\, at the Washington State Fair Event Center – 120-plus golf exhibits\, top-level manufacturers\, huge sales and experiences await the golfer – amazing front door bonuses await.\n\n\n\n\n\n\n\n\nGet Your Tickets\n\n\n\n\n\n\n\n\nOnline Ticket Prices\nAdult: $17.50 + taxes & fees\nSeniors (60+)  $16.50 + taxes & fees\nKids 12 yrs & under: Free! \n\nBox Office Ticket Prices (taxes and fees included onsite)\nAdult: $20\nSeniors (60+)  $19\nActive  Military & First Responders $12 (must show current ID card)\nKids 12 yrs & under: Free!
URL:https://portludlowresort.com/event/seattle-golf-show-26/2026-03-15/
LOCATION:Washington State Fair Event Center\, 110 9th Ave SW\, Puyallup\, 98371\, United States
CATEGORIES:Golf
ATTACH;FMTTYPE=image/jpeg:https://portludlowresort.com/wp-content/uploads/2026/02/2026-Golf-Show-website-image_SGS.jpg
END:VEVENT
BEGIN:VEVENT
DTSTART;VALUE=DATE:20250920
DTEND;VALUE=DATE:20250922
DTSTAMP:20260422T063301
CREATED:20250102T193021Z
LAST-MODIFIED:20250825T215739Z
UID:10002781-1758326400-1758499199@portludlowresort.com
SUMMARY:USKids Tournament
DESCRIPTION:Port Ludlow Golf Course in Port Ludlow\, WA will serve as the host for the U.S. Kids Golf Teen Series Event on Spetember 20-21\, 2025. \nPlayers between the ages of 12-18 will have the opportunity to compete in a multi-day championship event and qualify for U.S. Kids Golf Priority Status\, AJGA Performance Stars\, and Junior Golf Scoreboard Rankings. By earning different levels of Priority Status\, players can qualify for other U.S. Kids Golf multi-day events including Regional\, International\, and World Teen Championships. Refer to the Event Registration Information for more on the invitation schedule and how to register. \nTournament Age Date & Priority Status Info\nA player’s age on September 15\, 2025 will determine his/her age group for the duration of the event. Priority Status earned from this event will run from December 16\, 2025 through December 15\, 2026. \nRankings & AJGA PBE\nTeen Series events are ranked by Junior Golf Scoreboard and eligible for AJGA PBE Stars. All age groups will be eligible for Junior Golf Scoreboard rankings and AJGA PBE Stars.
URL:https://portludlowresort.com/event/uskids-tournament-fall/
LOCATION:Port Ludlow Golf Course\, 751 Highland Drive\, Port Ludlow\, 98365
CATEGORIES:Golf
ATTACH;FMTTYPE=image/png:https://portludlowresort.com/wp-content/uploads/2022/04/uskidsgolf.png
GEO:47.9046237;-122.6927319
X-APPLE-STRUCTURED-LOCATION;VALUE=URI;X-ADDRESS=Port Ludlow Golf Course 751 Highland Drive Port Ludlow 98365;X-APPLE-RADIUS=500;X-TITLE=751 Highland Drive:geo:-122.6927319,47.9046237
END:VEVENT
BEGIN:VEVENT
DTSTART;VALUE=DATE:20250913
DTEND;VALUE=DATE:20250915
DTSTAMP:20260422T063301
CREATED:20250718T193610Z
LAST-MODIFIED:20250820T224646Z
UID:10003177-1757721600-1757894399@portludlowresort.com
SUMMARY:Olympic Peninsula Two Player Fall Bash
DESCRIPTION:
URL:https://portludlowresort.com/event/olympic-peninsula-two-player-fall-bash/
CATEGORIES:Golf
ATTACH;FMTTYPE=image/jpeg:https://portludlowresort.com/wp-content/uploads/2025/07/OP_Fall_Bash.jpg
END:VEVENT
BEGIN:VEVENT
DTSTART;TZID=America/Los_Angeles:20250822T110000
DTEND;TZID=America/Los_Angeles:20250822T140000
DTSTAMP:20260422T063301
CREATED:20250731T214216Z
LAST-MODIFIED:20250731T214216Z
UID:10003242-1755860400-1755871200@portludlowresort.com
SUMMARY:Srixon/Cleveland Fitting Day
DESCRIPTION:Get fit for the latest gear from Srixon and Cleveland Golf! \n\n\n\n\nMake your Appointment
URL:https://portludlowresort.com/event/srixon-cleveland-fitting-day-2025822/
LOCATION:Port Ludlow Golf Course\, 751 Highland Drive\, Port Ludlow\, 98365
CATEGORIES:Golf
ATTACH;FMTTYPE=image/jpeg:https://portludlowresort.com/wp-content/uploads/2024/03/FittingDays.jpg
GEO:47.9046237;-122.6927319
X-APPLE-STRUCTURED-LOCATION;VALUE=URI;X-ADDRESS=Port Ludlow Golf Course 751 Highland Drive Port Ludlow 98365;X-APPLE-RADIUS=500;X-TITLE=751 Highland Drive:geo:-122.6927319,47.9046237
END:VEVENT
BEGIN:VEVENT
DTSTART;VALUE=DATE:20250807
DTEND;VALUE=DATE:20250809
DTSTAMP:20260422T063301
CREATED:20250624T184911Z
LAST-MODIFIED:20250723T201720Z
UID:10003169-1754524800-1754697599@portludlowresort.com
SUMMARY:PLGC 50th Anniversary Event
DESCRIPTION:Join us in celebrating 50 Years of the Port Ludlow Golf Course! \n\nThursday 8/7: Tee Times starting at Noon. Two-Man Best Ball. \n\nFriday 8/8: 8:30am Shotgun start. Front Nine: Modified Alternate Shot. Back Nine: Scramble. \n\n\n\nDownload Registration Form\n\n\n\n\n\n\n\n\n\n\n\nCost: Includes Golf\, Lunch\, Prizes & Tee Gifts (carts not included) \n\n	PLGC Member ~ $100\nNon-Member ~ $200\n9-Holer Division ~ $150\n\nPutting contest at check-in and chipping contest Friday by team.
URL:https://portludlowresort.com/event/plgc-50th-anniversary-event/
LOCATION:Port Ludlow Golf Course\, 751 Highland Drive\, Port Ludlow\, 98365
CATEGORIES:Community,Golf
ATTACH;FMTTYPE=image/png:https://portludlowresort.com/wp-content/uploads/2025/06/50th-Tournament-Poster.png
GEO:47.9046237;-122.6927319
X-APPLE-STRUCTURED-LOCATION;VALUE=URI;X-ADDRESS=Port Ludlow Golf Course 751 Highland Drive Port Ludlow 98365;X-APPLE-RADIUS=500;X-TITLE=751 Highland Drive:geo:-122.6927319,47.9046237
END:VEVENT
BEGIN:VEVENT
DTSTART;TZID=America/Los_Angeles:20250612T110000
DTEND;TZID=America/Los_Angeles:20250612T150000
DTSTAMP:20260422T063301
CREATED:20250107T235150Z
LAST-MODIFIED:20250403T211049Z
UID:10002818-1749726000-1749740400@portludlowresort.com
SUMMARY:Callaway Fitting Day
DESCRIPTION:
URL:https://portludlowresort.com/event/callaway-fitting-day-2/
LOCATION:Port Ludlow Golf Course\, 751 Highland Drive\, Port Ludlow\, 98365
CATEGORIES:Golf
ATTACH;FMTTYPE=image/jpeg:https://portludlowresort.com/wp-content/uploads/2024/12/golf-rentals.jpg
GEO:47.9046237;-122.6927319
X-APPLE-STRUCTURED-LOCATION;VALUE=URI;X-ADDRESS=Port Ludlow Golf Course 751 Highland Drive Port Ludlow 98365;X-APPLE-RADIUS=500;X-TITLE=751 Highland Drive:geo:-122.6927319,47.9046237
END:VEVENT
BEGIN:VEVENT
DTSTART;VALUE=DATE:20250522
DTEND;VALUE=DATE:20250523
DTSTAMP:20260422T063301
CREATED:20250107T235105Z
LAST-MODIFIED:20250522T221006Z
UID:10002817-1747872000-1747958399@portludlowresort.com
SUMMARY:Srixon/Cleveland Fitting Day
DESCRIPTION:
URL:https://portludlowresort.com/event/srixon-cleveland-fitting-day/
LOCATION:Port Ludlow Golf Course\, 751 Highland Drive\, Port Ludlow\, 98365
CATEGORIES:Golf
ATTACH;FMTTYPE=image/jpeg:https://portludlowresort.com/wp-content/uploads/2024/12/golf-rentals.jpg
GEO:47.9046237;-122.6927319
X-APPLE-STRUCTURED-LOCATION;VALUE=URI;X-ADDRESS=Port Ludlow Golf Course 751 Highland Drive Port Ludlow 98365;X-APPLE-RADIUS=500;X-TITLE=751 Highland Drive:geo:-122.6927319,47.9046237
END:VEVENT
BEGIN:VEVENT
DTSTART;VALUE=DATE:20250504
DTEND;VALUE=DATE:20250505
DTSTAMP:20260422T063301
CREATED:20250102T192219Z
LAST-MODIFIED:20250102T192220Z
UID:10002777-1746316800-1746403199@portludlowresort.com
SUMMARY:USKids Tournament
DESCRIPTION:
URL:https://portludlowresort.com/event/uskids-tournament/
LOCATION:Port Ludlow Golf Course\, 751 Highland Drive\, Port Ludlow\, 98365
CATEGORIES:Golf
ATTACH;FMTTYPE=image/png:https://portludlowresort.com/wp-content/uploads/2022/04/uskidsgolf.png
GEO:47.9046237;-122.6927319
X-APPLE-STRUCTURED-LOCATION;VALUE=URI;X-ADDRESS=Port Ludlow Golf Course 751 Highland Drive Port Ludlow 98365;X-APPLE-RADIUS=500;X-TITLE=751 Highland Drive:geo:-122.6927319,47.9046237
END:VEVENT
BEGIN:VEVENT
DTSTART;TZID=America/Los_Angeles:20250418T110000
DTEND;TZID=America/Los_Angeles:20250418T150000
DTSTAMP:20260422T063301
CREATED:20250107T234921Z
LAST-MODIFIED:20250403T211027Z
UID:10002816-1744974000-1744988400@portludlowresort.com
SUMMARY:XXIO Fitting Day
DESCRIPTION:Schedule a Fitting
URL:https://portludlowresort.com/event/xxio-fitting-day/
LOCATION:Port Ludlow Golf Course\, 751 Highland Drive\, Port Ludlow\, 98365
CATEGORIES:Golf
ATTACH;FMTTYPE=image/jpeg:https://portludlowresort.com/wp-content/uploads/2024/12/golf-rentals.jpg
GEO:47.9046237;-122.6927319
X-APPLE-STRUCTURED-LOCATION;VALUE=URI;X-ADDRESS=Port Ludlow Golf Course 751 Highland Drive Port Ludlow 98365;X-APPLE-RADIUS=500;X-TITLE=751 Highland Drive:geo:-122.6927319,47.9046237
END:VEVENT
BEGIN:VEVENT
DTSTART;TZID=America/Los_Angeles:20250410T100000
DTEND;TZID=America/Los_Angeles:20250410T160000
DTSTAMP:20260422T063301
CREATED:20250107T234825Z
LAST-MODIFIED:20250403T211010Z
UID:10002815-1744279200-1744300800@portludlowresort.com
SUMMARY:Titleist Fitting Day
DESCRIPTION:
URL:https://portludlowresort.com/event/titleist-fitting-day/
LOCATION:Port Ludlow Golf Course\, 751 Highland Drive\, Port Ludlow\, 98365
CATEGORIES:Golf
ATTACH;FMTTYPE=image/jpeg:https://portludlowresort.com/wp-content/uploads/2024/12/golf-rentals.jpg
GEO:47.9046237;-122.6927319
X-APPLE-STRUCTURED-LOCATION;VALUE=URI;X-ADDRESS=Port Ludlow Golf Course 751 Highland Drive Port Ludlow 98365;X-APPLE-RADIUS=500;X-TITLE=751 Highland Drive:geo:-122.6927319,47.9046237
END:VEVENT
BEGIN:VEVENT
DTSTART;TZID=America/Los_Angeles:20250403T110000
DTEND;TZID=America/Los_Angeles:20250403T150000
DTSTAMP:20260422T063301
CREATED:20250107T234718Z
LAST-MODIFIED:20250403T210945Z
UID:10002814-1743678000-1743692400@portludlowresort.com
SUMMARY:Callaway Fitting Day
DESCRIPTION:Make an Appointment\n\n\n\n\n\n\n\n\nUPCOMING FITTING DAYS\nThurs\, April 10 ~ TitleistFri\, April 11 ~ XXIOTues\, April 15 ~ TaylorMadeThurs\, April 17 ~ CobraThurs\, May 22 ~ Srixon/Cleveland/XXIOFri\, June 6 ~ CobraThurs\, June 12 ~ CallawayThurs\, June 19 ~ TaylorMade
URL:https://portludlowresort.com/event/callaway-fitting-day/
LOCATION:Port Ludlow Golf Course\, 751 Highland Drive\, Port Ludlow\, 98365
CATEGORIES:Golf
ATTACH;FMTTYPE=image/jpeg:https://portludlowresort.com/wp-content/uploads/2024/12/golf-rentals.jpg
GEO:47.9046237;-122.6927319
X-APPLE-STRUCTURED-LOCATION;VALUE=URI;X-ADDRESS=Port Ludlow Golf Course 751 Highland Drive Port Ludlow 98365;X-APPLE-RADIUS=500;X-TITLE=751 Highland Drive:geo:-122.6927319,47.9046237
END:VEVENT
BEGIN:VEVENT
DTSTART;VALUE=DATE:20250330
DTEND;VALUE=DATE:20250402
DTSTAMP:20260422T063301
CREATED:20250324T185642Z
LAST-MODIFIED:20250324T185939Z
UID:10002927-1743292800-1743551999@portludlowresort.com
SUMMARY:Spring Greens Aerification
DESCRIPTION:Our scheduled Spring greens aerification will begin Sunday\, March 30 at 3pm on the Front 9. No tee times will be taken after aerification begins on Sunday and the golf course\, putting green and chipping areas will be closed all day on Monday\, March 31 as aerification continues. The golf shop and driving range will be open Monday.  \nIf needed\, clean-up and the completion of the project will be Tuesday & Wednesday\, April 1 & 2.
URL:https://portludlowresort.com/event/spring-greens-aerification/
LOCATION:Port Ludlow Golf Course\, 751 Highland Drive\, Port Ludlow\, 98365
CATEGORIES:Golf
ATTACH;FMTTYPE=image/jpeg:https://portludlowresort.com/wp-content/uploads/2025/03/aeration.jpg
GEO:47.9046237;-122.6927319
X-APPLE-STRUCTURED-LOCATION;VALUE=URI;X-ADDRESS=Port Ludlow Golf Course 751 Highland Drive Port Ludlow 98365;X-APPLE-RADIUS=500;X-TITLE=751 Highland Drive:geo:-122.6927319,47.9046237
END:VEVENT
BEGIN:VEVENT
DTSTART;TZID=America/Los_Angeles:20250321T100000
DTEND;TZID=America/Los_Angeles:20250321T160000
DTSTAMP:20260422T063301
CREATED:20250102T190830Z
LAST-MODIFIED:20250102T192243Z
UID:10002776-1742551200-1742572800@portludlowresort.com
SUMMARY:WAGolf Winter Series
DESCRIPTION:Format: Individual Stableford\, with a Men’s and Women’s Division. \nFlights: Flights within each Division will be determined by playing handicap. \nStableford Scoring:\n\nDouble Eagle – 5 points\nEagle – 4 points\nBirdie – 3 points\nPar – 2 points\nBogey – 1 point\nDouble Bogey + – 0 points\n\nHandicaps: Handicap Indexes on Wednesday\, March 19 will be used for the tournament. Playing Handicaps will be calculated by using 95% of a player’s course handicap. \nStarting Time/Pairings: 10:00 a.m. shotgun start. Players can make pairing requests during online registration. Requests will be accepted up until the registration deadline.  \n\n\n\nRegister\n\n\n\n\n\n\n\n \nEligibility Requirements: Entrants must be members in good standing of a WA Golf member club\, with a maximum handicap index of 54.0. \nAge limit: No age limit \nField Limit: 120 Players* (Men – 92 players | Women – 28 players) *WA Golf reserves the right to modify field limits for men and women to achieve a full field. \nEntry Fee: $100 per player \nCart Fee: Players may ride in a golf cart. Cart fees are $25 per person and will be collected during registration. \nEntry Deadline: Sunday\, March 16\, 2025 at 11:59 p.m. \nEntry Includes: Green fees\, range balls\, tee prize\, $10 Puetz Bucks and a $3\,600* merchandise payout (*based on full field). \nCourse Yardage: Subject to change based on weather and course conditions: Men – 6\,012 Yards\, Women – 5\,124 Yards. \nWinter Series Challenge Sponsored by Puetz Golf: Players receive participation points for each event entered as well as for top overall gross and net finishes in each event. $3\,000 in Puetz Golf merchandise certificates will be distributed to the top season-long men’s and women’s points finishers. Each contestant will also receive $10 Puetz Bucks for each event they participate in.
URL:https://portludlowresort.com/event/wagolf-winter-series/
LOCATION:Port Ludlow Golf Course\, 751 Highland Drive\, Port Ludlow\, 98365
CATEGORIES:Golf
ATTACH;FMTTYPE=image/png:https://portludlowresort.com/wp-content/uploads/2025/01/WAGolf-WinterSeries.png
GEO:47.9046237;-122.6927319
X-APPLE-STRUCTURED-LOCATION;VALUE=URI;X-ADDRESS=Port Ludlow Golf Course 751 Highland Drive Port Ludlow 98365;X-APPLE-RADIUS=500;X-TITLE=751 Highland Drive:geo:-122.6927319,47.9046237
END:VEVENT
BEGIN:VEVENT
DTSTART;TZID=America/Los_Angeles:20250302T100000
DTEND;TZID=America/Los_Angeles:20250302T160000
DTSTAMP:20260422T063301
CREATED:20241212T201447Z
LAST-MODIFIED:20241212T202521Z
UID:10002160-1740909600-1740931200@portludlowresort.com
SUMMARY:Portland Golf Show
DESCRIPTION:
URL:https://portludlowresort.com/event/portland-golf-show/2025-03-02/
LOCATION:Portland Expo Center\, 2060 N. Marine Drive Hall D\, Portland\, Oregon\, 97217\, United States
CATEGORIES:Golf
ATTACH;FMTTYPE=image/png:https://portludlowresort.com/wp-content/uploads/2024/12/Logo-Portland-Golf-Show-2022-web-450x205-1.png
ORGANIZER;CN="Varsity Communications":MAILTO:updates@seattlegolfshow.com
END:VEVENT
BEGIN:VEVENT
DTSTART;TZID=America/Los_Angeles:20250208T100000
DTEND;TZID=America/Los_Angeles:20250208T170000
DTSTAMP:20260422T063301
CREATED:20241212T200236Z
LAST-MODIFIED:20241212T200540Z
UID:10002155-1739008800-1739034000@portludlowresort.com
SUMMARY:Seattle Golf Show
DESCRIPTION:
URL:https://portludlowresort.com/event/seattle-golf-show/2025-02-08/
LOCATION:Seattle Convention Center\, 705 Pike Street\, Seattle\, WA\, 98101\, United States
CATEGORIES:Golf
ATTACH;FMTTYPE=image/png:https://portludlowresort.com/wp-content/uploads/2022/02/Seattle-GS-logo_550x250.png
ORGANIZER;CN="Varsity Communications":MAILTO:updates@seattlegolfshow.com
GEO:47.6117581;-122.3324386
X-APPLE-STRUCTURED-LOCATION;VALUE=URI;X-ADDRESS=Seattle Convention Center 705 Pike Street Seattle WA 98101 United States;X-APPLE-RADIUS=500;X-TITLE=705 Pike Street:geo:-122.3324386,47.6117581
END:VEVENT
END:VCALENDAR