BEGIN:VCALENDAR
VERSION:2.0
PRODID:-//The Resort at Port Ludlow - ECPv6.15.20//NONSGML v1.0//EN
CALSCALE:GREGORIAN
METHOD:PUBLISH
X-WR-CALNAME:The Resort at Port Ludlow
X-ORIGINAL-URL:https://portludlowresort.com
X-WR-CALDESC:Events for The Resort at Port Ludlow
REFRESH-INTERVAL;VALUE=DURATION:PT1H
X-Robots-Tag:noindex
X-PUBLISHED-TTL:PT1H
BEGIN:VTIMEZONE
TZID:America/Los_Angeles
BEGIN:DAYLIGHT
TZOFFSETFROM:-0800
TZOFFSETTO:-0700
TZNAME:PDT
DTSTART:20250309T100000
END:DAYLIGHT
BEGIN:STANDARD
TZOFFSETFROM:-0700
TZOFFSETTO:-0800
TZNAME:PST
DTSTART:20251102T090000
END:STANDARD
BEGIN:DAYLIGHT
TZOFFSETFROM:-0800
TZOFFSETTO:-0700
TZNAME:PDT
DTSTART:20260308T100000
END:DAYLIGHT
BEGIN:STANDARD
TZOFFSETFROM:-0700
TZOFFSETTO:-0800
TZNAME:PST
DTSTART:20261101T090000
END:STANDARD
BEGIN:DAYLIGHT
TZOFFSETFROM:-0800
TZOFFSETTO:-0700
TZNAME:PDT
DTSTART:20270314T100000
END:DAYLIGHT
BEGIN:STANDARD
TZOFFSETFROM:-0700
TZOFFSETTO:-0800
TZNAME:PST
DTSTART:20271107T090000
END:STANDARD
END:VTIMEZONE
BEGIN:VEVENT
DTSTART;TZID=America/Los_Angeles:20260426T160000
DTEND;TZID=America/Los_Angeles:20260426T200000
DTSTAMP:20260425T110327
CREATED:20260413T211301Z
LAST-MODIFIED:20260424T233848Z
UID:10003889-1777219200-1777233600@portludlowresort.com
SUMMARY:Seafood Sundays
DESCRIPTION:Enjoy a special three course Seafood menu each Sunday in April. Ingredients subject to change due to availability.  \n\n\n\n\nMake a Reservation\n\n\n\n\n\n\n\n\nAPRIL 12\nCrab Bisque Sherry Crème Fraîche \nCaramelized Steelhead Lemon-Ginger Basmati Rice\, Braised Local Greens\, Soy-Grand Marnier Deglaze \nChocolate Decadence \n\n APRIL 19\nSpinach Salad Warm Bacon Vinaigrette\, Egg Mimosa\, Shaved Red Onion \nBlackened Rockfish Herbed Fingerling Potatoes\, Avocado Crema\, Roasted Broccoli \nApple Tart Tatin \n\nAPRIL 26\nLudlow Cobb Buttermilk Dressing\, Cedar Planked Salmon\, Hard Cooked Egg\, Tomatoes\, Bacon\, Scallions \nWild White Shrimp Mushroom Risotto\, Haricot Verts\, Heirloom Tomato\, White Wine Butter Sauce \nElevated Ice Cream Lemon Chiffon
URL:https://portludlowresort.com/event/seafood-sundays-april/2026-04-26/
LOCATION:The Fireside Restaurant\, One Heron Rd\, Port Ludlow\, WA\, 98365\, United States
CATEGORIES:Dining
ATTACH;FMTTYPE=image/jpeg:https://portludlowresort.com/wp-content/uploads/2025/12/event-seafood_sun.jpg
GEO:47.9242415;-122.6850101
X-APPLE-STRUCTURED-LOCATION;VALUE=URI;X-ADDRESS=The Fireside Restaurant One Heron Rd Port Ludlow WA 98365 United States;X-APPLE-RADIUS=500;X-TITLE=One Heron Rd:geo:-122.6850101,47.9242415
END:VEVENT
BEGIN:VEVENT
DTSTART;TZID=America/Los_Angeles:20260430T180000
DTEND;TZID=America/Los_Angeles:20260430T210000
DTSTAMP:20260425T110327
CREATED:20260310T175652Z
LAST-MODIFIED:20260320T205249Z
UID:10003668-1777572000-1777582800@portludlowresort.com
SUMMARY:Truffle Dinner with River the Trufflehunter
DESCRIPTION:Our hosts will guide you through a fascinating demonstration of River’s training\, showcasing her remarkable skills and enthusiasm as a true Truffle Hunter. The experience continues with a beautifully curated tasting menu\, celebrating exquisite local truffles and complemented by a selection of fine French wines\, perfectly paired from our private cellar. \n \nMENU\nFIRST COURSE: Butter Ball Potato Blinis\nDuck Egg Salad\, Wild Sturgeon Caviar\, Grated Truffle \nSECOND COURSE: Locally Foraged Mushroom Bisque\nShaved Black Truffles\, Crème Fraîche \nTHIRD COURSE: Neah Bay Black Cod\nTruffle Velouté\, Creamed Peppers\, Sweet Pepper Purée \nINTERMEZZO: Finnriver Cider Granita \nFOURTH COURSE: Beef Tenderloin\nTruffle Cured Egg Yolk\, Duchess Potatoes \nFIFTH COURSE: Arugula Salad\nTruffle Vinaigrette\, Chimacum Valley Dairy Brie\, Washington Apples \nDESSERT: Mystery Bay Goat Cheese Ice Cream\nBlack Truffle Honey \nMenu subject to change due to availability of ingredients.
URL:https://portludlowresort.com/event/truffle-dinner/
LOCATION:The Sun Room\, 1 Heron Rd\, Port Ludlow\, 98365
CATEGORIES:Dining
ATTACH;FMTTYPE=image/png:https://portludlowresort.com/wp-content/uploads/2026/03/trufflehunters.png
GEO:47.9226808;-122.6831083
X-APPLE-STRUCTURED-LOCATION;VALUE=URI;X-ADDRESS=The Sun Room 1 Heron Rd Port Ludlow 98365;X-APPLE-RADIUS=500;X-TITLE=1 Heron Rd:geo:-122.6831083,47.9226808
END:VEVENT
BEGIN:VEVENT
DTSTART;TZID=America/Los_Angeles:20260510T080000
DTEND;TZID=America/Los_Angeles:20260510T200000
DTSTAMP:20260425T110327
CREATED:20260224T185540Z
LAST-MODIFIED:20260408T171447Z
UID:10003644-1778400000-1778443200@portludlowresort.com
SUMMARY:Mother's Day
DESCRIPTION:Celebrate Mother’s Day with us and enjoy our à la carte Brunch Menu featuring delicious new dishes and amazing hand-crafted cocktails. \n\n\n\n\nMenus subject to change without notice. \n\n\n\n\nMake a Reservation
URL:https://portludlowresort.com/event/mothers-day/
LOCATION:The Fireside Restaurant\, One Heron Rd\, Port Ludlow\, WA\, 98365\, United States
CATEGORIES:Dining
ATTACH;FMTTYPE=image/png:https://portludlowresort.com/wp-content/uploads/2025/05/MothersDay.png
GEO:47.9242415;-122.6850101
X-APPLE-STRUCTURED-LOCATION;VALUE=URI;X-ADDRESS=The Fireside Restaurant One Heron Rd Port Ludlow WA 98365 United States;X-APPLE-RADIUS=500;X-TITLE=One Heron Rd:geo:-122.6850101,47.9242415
END:VEVENT
BEGIN:VEVENT
DTSTART;TZID=America/Los_Angeles:20260512T160000
DTEND;TZID=America/Los_Angeles:20260512T190000
DTSTAMP:20260425T110327
CREATED:20251204T194059Z
LAST-MODIFIED:20260313T230616Z
UID:10003350-1778601600-1778612400@portludlowresort.com
SUMMARY:Fireside Wine Tasting
DESCRIPTION:Join us for our monthly Port Ludlow wine tasting series\, where each event highlights unique winemakers and seasonal selections.  Held on the second Tuesday of each month from 4–7PM. $10 per guest when pre-paid online ($15 at the door) includes a curated tasting of 5 featured wines and charcuterie. Discover something new with every sip. \n\nMay 12: Ambassador Winery\nJune 9: State 42 Wines\nJuly 14: Dossier Wine Collective Tasting\nAugust 11: Raid the Cellar with Sommelier Andrew Wiese\nSeptember 8: Michael Corso Selections\nOctober 13: Casa Bruno – wines of Spain/Portugal\nNovember 10: Port Townsend Vineyards\nDecember 8:  Bubbles & Reds\n\nSchedule subject to change without notice.
URL:https://portludlowresort.com/event/fireside-wine-tasting-202605/
LOCATION:The Marina Room\, 1 Heron Rd\, Port Ludlow\, 98365\, United States
CATEGORIES:Dining
ATTACH;FMTTYPE=image/jpeg:https://portludlowresort.com/wp-content/uploads/2025/12/winetasting.jpg
END:VEVENT
BEGIN:VEVENT
DTSTART;TZID=America/Los_Angeles:20260514T180000
DTEND;TZID=America/Los_Angeles:20260514T210000
DTSTAMP:20260425T110327
CREATED:20251230T193326Z
LAST-MODIFIED:20260410T205503Z
UID:10003367-1778781600-1778792400@portludlowresort.com
SUMMARY:Marrowstone Vineyards Winemaker Dinner
DESCRIPTION:Join us for an evening with James Holloway\, winemaker and owner of Marrowstone Vineyards\, as he guides you through a multi-course dinner paired Marrowstone wines. Each course is crafted by our culinary team to complement the character of the wines\, while he shares the stories of harvest and craftsmanship behind every pour.  \nMENU\nMenu will be available shortly.
URL:https://portludlowresort.com/event/marrowstone-vineyards/
LOCATION:The Sun Room\, 1 Heron Rd\, Port Ludlow\, 98365
CATEGORIES:Dining
ATTACH;FMTTYPE=image/jpeg:https://portludlowresort.com/wp-content/uploads/2025/12/winedinner.jpg
GEO:47.9226808;-122.6831083
X-APPLE-STRUCTURED-LOCATION;VALUE=URI;X-ADDRESS=The Sun Room 1 Heron Rd Port Ludlow 98365;X-APPLE-RADIUS=500;X-TITLE=1 Heron Rd:geo:-122.6831083,47.9226808
END:VEVENT
BEGIN:VEVENT
DTSTART;TZID=America/Los_Angeles:20260609T160000
DTEND;TZID=America/Los_Angeles:20260609T190000
DTSTAMP:20260425T110327
CREATED:20251204T194413Z
LAST-MODIFIED:20260313T230334Z
UID:10003351-1781020800-1781031600@portludlowresort.com
SUMMARY:Fireside Wine Tasting
DESCRIPTION:Join us for our monthly Port Ludlow wine tasting series\, where each event highlights unique winemakers and seasonal selections.  Held on the second Tuesday of each month from 4–7PM. $10 per guest when pre-paid online ($15 at the door) includes a curated tasting of 5 featured wines and charcuterie. Discover something new with every sip. \n\nJune 9: State 42 Wines\nJuly 14: Dossier Wine Collective Tasting\nAugust 11: Raid the Cellar with Sommelier Andrew Wiese\nSeptember 8: Michael Corso Selections\nOctober 13: Casa Bruno – wines of Spain/Portugal\nNovember 10: Port Townsend Vineyards\nDecember 8:  Bubbles & Reds\n\nSchedule subject to change without notice.
URL:https://portludlowresort.com/event/fireside-wine-tasting-202606/
LOCATION:The Marina Room\, 1 Heron Rd\, Port Ludlow\, 98365\, United States
CATEGORIES:Dining
ATTACH;FMTTYPE=image/jpeg:https://portludlowresort.com/wp-content/uploads/2025/12/winetasting.jpg
END:VEVENT
BEGIN:VEVENT
DTSTART;TZID=America/Los_Angeles:20260618T180000
DTEND;TZID=America/Los_Angeles:20260618T210000
DTSTAMP:20260425T110327
CREATED:20260113T195217Z
LAST-MODIFIED:20260113T195217Z
UID:10003387-1781805600-1781816400@portludlowresort.com
SUMMARY:Januik Winemaker Dinner
DESCRIPTION:Tickets and menu will be available closer to the event date.  \nMENU
URL:https://portludlowresort.com/event/januik-winemaker-dinner/
LOCATION:The Sun Room\, 1 Heron Rd\, Port Ludlow\, 98365
CATEGORIES:Dining
ATTACH;FMTTYPE=image/jpeg:https://portludlowresort.com/wp-content/uploads/2025/12/winedinner.jpg
GEO:47.9226808;-122.6831083
X-APPLE-STRUCTURED-LOCATION;VALUE=URI;X-ADDRESS=The Sun Room 1 Heron Rd Port Ludlow 98365;X-APPLE-RADIUS=500;X-TITLE=1 Heron Rd:geo:-122.6831083,47.9226808
END:VEVENT
BEGIN:VEVENT
DTSTART;TZID=America/Los_Angeles:20260714T160000
DTEND;TZID=America/Los_Angeles:20260714T190000
DTSTAMP:20260425T110327
CREATED:20251204T194518Z
LAST-MODIFIED:20260108T224328Z
UID:10003352-1784044800-1784055600@portludlowresort.com
SUMMARY:Fireside Wine Tasting
DESCRIPTION:Join us for our monthly Port Ludlow wine tasting series\, where each event highlights unique winemakers and seasonal selections.  Held on the second Tuesday of each month from 4–7PM. $10 per guest when pre-paid online ($15 at the door) includes a curated tasting of 5 featured wines and charcuterie. Discover something new with every sip. \n\nJuly 14: Dossier Wine Collective Tasting\nAugust 11: Raid the Cellar with Sommelier Andrew Wiese\nSeptember 8: Michael Corso Selections\nOctober 13: Casa Bruno – wines of Spain/Portugal\nNovember 10: Port Townsend Vineyards\nDecember 8:  Bubbles & Reds\n\nSchedule subject to change without notice.
URL:https://portludlowresort.com/event/fireside-wine-tasting-202607/
LOCATION:The Marina Room\, 1 Heron Rd\, Port Ludlow\, 98365\, United States
CATEGORIES:Dining
ATTACH;FMTTYPE=image/jpeg:https://portludlowresort.com/wp-content/uploads/2025/12/winetasting.jpg
END:VEVENT
BEGIN:VEVENT
DTSTART;TZID=America/Los_Angeles:20260716T180000
DTEND;TZID=America/Los_Angeles:20260716T210000
DTSTAMP:20260425T110327
CREATED:20260113T195337Z
LAST-MODIFIED:20260113T195337Z
UID:10003388-1784224800-1784235600@portludlowresort.com
SUMMARY:L’Ecole Winemaker Dinner
DESCRIPTION:Tickets and menu will be available closer to the event date.  \nMENU
URL:https://portludlowresort.com/event/lecole-winemaker-dinner/
LOCATION:The Sun Room\, 1 Heron Rd\, Port Ludlow\, 98365
CATEGORIES:Dining
ATTACH;FMTTYPE=image/jpeg:https://portludlowresort.com/wp-content/uploads/2025/12/winedinner.jpg
GEO:47.9226808;-122.6831083
X-APPLE-STRUCTURED-LOCATION;VALUE=URI;X-ADDRESS=The Sun Room 1 Heron Rd Port Ludlow 98365;X-APPLE-RADIUS=500;X-TITLE=1 Heron Rd:geo:-122.6831083,47.9226808
END:VEVENT
BEGIN:VEVENT
DTSTART;TZID=America/Los_Angeles:20260811T160000
DTEND;TZID=America/Los_Angeles:20260811T190000
DTSTAMP:20260425T110327
CREATED:20251204T194620Z
LAST-MODIFIED:20260109T010725Z
UID:10003353-1786464000-1786474800@portludlowresort.com
SUMMARY:Fireside Wine Tasting
DESCRIPTION:Join us for our monthly Port Ludlow wine tasting series\, where each event highlights unique winemakers and seasonal selections.  Held on the second Tuesday of each month from 4–7PM. \n\nAugust 11: TBA\nSeptember 8: TBA\nOctober 13: TBA\nNovember 10: TBA\nDecember 8:  TBA\n\n$10 per guest includes a curated tasting of 5 featured wines and charcuterie. \nDiscover something new with every sip.
URL:https://portludlowresort.com/event/fireside-wine-tasting-202608/
LOCATION:The Marina Room\, 1 Heron Rd\, Port Ludlow\, 98365\, United States
CATEGORIES:Dining
ATTACH;FMTTYPE=image/jpeg:https://portludlowresort.com/wp-content/uploads/2025/12/winetasting.jpg
END:VEVENT
BEGIN:VEVENT
DTSTART;TZID=America/Los_Angeles:20260813T180000
DTEND;TZID=America/Los_Angeles:20260813T210000
DTSTAMP:20260425T110327
CREATED:20260113T195522Z
LAST-MODIFIED:20260113T195522Z
UID:10003389-1786644000-1786654800@portludlowresort.com
SUMMARY:Dossier Winemaker Dinner
DESCRIPTION:Tickets and menu will be available closer to the event date.  \nMENU
URL:https://portludlowresort.com/event/dossier-winemaker-dinner/
LOCATION:The Sun Room\, 1 Heron Rd\, Port Ludlow\, 98365
CATEGORIES:Dining
ATTACH;FMTTYPE=image/jpeg:https://portludlowresort.com/wp-content/uploads/2025/12/winedinner.jpg
GEO:47.9226808;-122.6831083
X-APPLE-STRUCTURED-LOCATION;VALUE=URI;X-ADDRESS=The Sun Room 1 Heron Rd Port Ludlow 98365;X-APPLE-RADIUS=500;X-TITLE=1 Heron Rd:geo:-122.6831083,47.9226808
END:VEVENT
BEGIN:VEVENT
DTSTART;TZID=America/Los_Angeles:20260908T160000
DTEND;TZID=America/Los_Angeles:20260908T190000
DTSTAMP:20260425T110327
CREATED:20251204T194719Z
LAST-MODIFIED:20260109T010701Z
UID:10003354-1788883200-1788894000@portludlowresort.com
SUMMARY:Fireside Wine Tasting
DESCRIPTION:Join us for our monthly Port Ludlow wine tasting series\, where each event highlights unique winemakers and seasonal selections.  Held on the second Tuesday of each month from 4–7PM. \n\nSeptember 8: TBA\nOctober 13: TBA\nNovember 10: TBA\nDecember 8: TBA\n\n$10 per guest includes a curated tasting of 5 featured wines and charcuterie. \nDiscover something new with every sip.
URL:https://portludlowresort.com/event/fireside-wine-tasting-202609/
LOCATION:The Marina Room\, 1 Heron Rd\, Port Ludlow\, 98365\, United States
CATEGORIES:Dining
ATTACH;FMTTYPE=image/jpeg:https://portludlowresort.com/wp-content/uploads/2025/12/winetasting.jpg
END:VEVENT
BEGIN:VEVENT
DTSTART;TZID=America/Los_Angeles:20261013T160000
DTEND;TZID=America/Los_Angeles:20261013T190000
DTSTAMP:20260425T110327
CREATED:20251204T194856Z
LAST-MODIFIED:20260109T010650Z
UID:10003355-1791907200-1791918000@portludlowresort.com
SUMMARY:Fireside Wine Tasting
DESCRIPTION:Join us for our monthly Port Ludlow wine tasting series\, where each event highlights unique winemakers and seasonal selections.  Held on the second Tuesday of each month from 4–7PM. \n\nOctober 13: TBD\nNovember 10: TBD\nDecember 8: TBD\n\n$10 per guest includes a curated tasting of 5 featured wines and charcuterie. \nDiscover something new with every sip.
URL:https://portludlowresort.com/event/fireside-wine-tasting-202610/
LOCATION:The Marina Room\, 1 Heron Rd\, Port Ludlow\, 98365\, United States
CATEGORIES:Dining
ATTACH;FMTTYPE=image/jpeg:https://portludlowresort.com/wp-content/uploads/2025/12/winetasting.jpg
END:VEVENT
BEGIN:VEVENT
DTSTART;TZID=America/Los_Angeles:20261015T180000
DTEND;TZID=America/Los_Angeles:20261015T210000
DTSTAMP:20260425T110327
CREATED:20260113T195606Z
LAST-MODIFIED:20260113T203650Z
UID:10003390-1792087200-1792098000@portludlowresort.com
SUMMARY:Rotie Cellars Winemaker Dinner
DESCRIPTION:Tickets and menu will be available closer to the event date.  \nMENU
URL:https://portludlowresort.com/event/rotie-cellars-winemaker-dinner/
LOCATION:The Sun Room\, 1 Heron Rd\, Port Ludlow\, 98365
CATEGORIES:Dining
ATTACH;FMTTYPE=image/jpeg:https://portludlowresort.com/wp-content/uploads/2025/12/winedinner.jpg
GEO:47.9226808;-122.6831083
X-APPLE-STRUCTURED-LOCATION;VALUE=URI;X-ADDRESS=The Sun Room 1 Heron Rd Port Ludlow 98365;X-APPLE-RADIUS=500;X-TITLE=1 Heron Rd:geo:-122.6831083,47.9226808
END:VEVENT
BEGIN:VEVENT
DTSTART;TZID=America/Los_Angeles:20261110T160000
DTEND;TZID=America/Los_Angeles:20261110T190000
DTSTAMP:20260425T110327
CREATED:20251204T194929Z
LAST-MODIFIED:20260109T010640Z
UID:10003356-1794326400-1794337200@portludlowresort.com
SUMMARY:Fireside Wine Tasting
DESCRIPTION:Join us for our monthly Port Ludlow wine tasting series\, where each event highlights unique winemakers and seasonal selections.  Held on the second Tuesday of each month from 4–7PM. $10 per guest when pre-paid online ($15 at the door) includes a curated tasting of 5 featured wines and charcuterie. Discover something new with every sip. \n\nNovember 10: Port Townsend Vineyards\nDecember 8:  Bubbles & Reds\n\nSchedule subject to change without notice.
URL:https://portludlowresort.com/event/fireside-wine-tasting-202611/
LOCATION:The Marina Room\, 1 Heron Rd\, Port Ludlow\, 98365\, United States
CATEGORIES:Dining
ATTACH;FMTTYPE=image/jpeg:https://portludlowresort.com/wp-content/uploads/2025/12/winetasting.jpg
END:VEVENT
BEGIN:VEVENT
DTSTART;TZID=America/Los_Angeles:20261112T180000
DTEND;TZID=America/Los_Angeles:20261112T210000
DTSTAMP:20260425T110327
CREATED:20260113T195657Z
LAST-MODIFIED:20260113T195657Z
UID:10003391-1794506400-1794517200@portludlowresort.com
SUMMARY:Gard Estate Winemaker Dinner
DESCRIPTION:Tickets and menu will be available closer to the event date.  \nMENU
URL:https://portludlowresort.com/event/gard-estate-winemaker-dinner/
LOCATION:The Sun Room\, 1 Heron Rd\, Port Ludlow\, 98365
CATEGORIES:Dining
ATTACH;FMTTYPE=image/jpeg:https://portludlowresort.com/wp-content/uploads/2025/12/winedinner.jpg
GEO:47.9226808;-122.6831083
X-APPLE-STRUCTURED-LOCATION;VALUE=URI;X-ADDRESS=The Sun Room 1 Heron Rd Port Ludlow 98365;X-APPLE-RADIUS=500;X-TITLE=1 Heron Rd:geo:-122.6831083,47.9226808
END:VEVENT
BEGIN:VEVENT
DTSTART;TZID=America/Los_Angeles:20261208T160000
DTEND;TZID=America/Los_Angeles:20261208T190000
DTSTAMP:20260425T110327
CREATED:20251204T194957Z
LAST-MODIFIED:20260109T010815Z
UID:10003357-1796745600-1796756400@portludlowresort.com
SUMMARY:Fireside Wine Tasting
DESCRIPTION:Join us for our monthly Port Ludlow wine tasting series\, where each event highlights unique winemakers and seasonal selections.  Held on the second Tuesday of each month from 4–7PM. $10 per guest when pre-paid online ($15 at the door) includes a curated tasting of 5 featured wines and charcuterie. Discover something new with every sip. \n\nDecember 8:  Bubbles & Reds A festive end-of-year tasting highlighting a curated selection of sparkling and red wines from a variety of producers and regions.\n\nSchedule subject to change without notice.
URL:https://portludlowresort.com/event/fireside-wine-tasting-202612/
LOCATION:The Marina Room\, 1 Heron Rd\, Port Ludlow\, 98365\, United States
CATEGORIES:Dining
ATTACH;FMTTYPE=image/jpeg:https://portludlowresort.com/wp-content/uploads/2025/12/winetasting.jpg
END:VEVENT
BEGIN:VEVENT
DTSTART;TZID=America/Los_Angeles:20261210T180000
DTEND;TZID=America/Los_Angeles:20261210T210000
DTSTAMP:20260425T110327
CREATED:20260113T195726Z
LAST-MODIFIED:20260113T195726Z
UID:10003392-1796925600-1796936400@portludlowresort.com
SUMMARY:Bledsoe Family Winery Dinner
DESCRIPTION:Tickets and menu will be available closer to the event date.  \nMENU
URL:https://portludlowresort.com/event/bledsoe-family-winery-dinner/
LOCATION:The Sun Room\, 1 Heron Rd\, Port Ludlow\, 98365
CATEGORIES:Dining
ATTACH;FMTTYPE=image/jpeg:https://portludlowresort.com/wp-content/uploads/2025/12/winedinner.jpg
GEO:47.9226808;-122.6831083
X-APPLE-STRUCTURED-LOCATION;VALUE=URI;X-ADDRESS=The Sun Room 1 Heron Rd Port Ludlow 98365;X-APPLE-RADIUS=500;X-TITLE=1 Heron Rd:geo:-122.6831083,47.9226808
END:VEVENT
END:VCALENDAR